BEGIN:VCALENDAR
VERSION:2.0
PRODID:-//FabLab Coevorden - ECPv6.15.17.1//NONSGML v1.0//EN
CALSCALE:GREGORIAN
METHOD:PUBLISH
X-WR-CALNAME:FabLab Coevorden
X-ORIGINAL-URL:https://www.fablabcoevorden.nl
X-WR-CALDESC:Evenementen voor FabLab Coevorden
REFRESH-INTERVAL;VALUE=DURATION:PT1H
X-Robots-Tag:noindex
X-PUBLISHED-TTL:PT1H
BEGIN:VTIMEZONE
TZID:Europe/Amsterdam
BEGIN:DAYLIGHT
TZOFFSETFROM:+0100
TZOFFSETTO:+0200
TZNAME:CEST
DTSTART:20200329T010000
END:DAYLIGHT
BEGIN:STANDARD
TZOFFSETFROM:+0200
TZOFFSETTO:+0100
TZNAME:CET
DTSTART:20201025T010000
END:STANDARD
BEGIN:DAYLIGHT
TZOFFSETFROM:+0100
TZOFFSETTO:+0200
TZNAME:CEST
DTSTART:20210328T010000
END:DAYLIGHT
BEGIN:STANDARD
TZOFFSETFROM:+0200
TZOFFSETTO:+0100
TZNAME:CET
DTSTART:20211031T010000
END:STANDARD
BEGIN:DAYLIGHT
TZOFFSETFROM:+0100
TZOFFSETTO:+0200
TZNAME:CEST
DTSTART:20220327T010000
END:DAYLIGHT
BEGIN:STANDARD
TZOFFSETFROM:+0200
TZOFFSETTO:+0100
TZNAME:CET
DTSTART:20221030T010000
END:STANDARD
END:VTIMEZONE
BEGIN:VEVENT
DTSTART;TZID=Europe/Amsterdam:20210224T133000
DTEND;TZID=Europe/Amsterdam:20210224T143000
DTSTAMP:20260420T042225
CREATED:20210216T150921Z
LAST-MODIFIED:20210216T150921Z
UID:720-1614173400-1614177000@www.fablabcoevorden.nl
SUMMARY:Wearables en Facefilters (online workshop via Tetem)
DESCRIPTION:Ga aan de slag met Facefilters\nDraagbare technologie wordt ook wel wearables genoemd. Dit zijn slimme elektronische apparaten die je in je kleding kunt verwerken of op je lichaam kunt dragen\, zoals een smartwatch of een fitnesstracker. In deze KidsLab+ gaan we een stapje verder! We ontdekken hoe kunstenaars en ontwerpers wearables gebruiken om hun kleding interactief te maken en hoe zij digitale wearables inzetten om de echte en virtuele wereld met elkaar te verbinden. We beginnen met een Facefilter parade waarbij alle deelnemers een digitale pruik of sieraad aan elkaar showen! \nGa voor meer informatie en aanmelding naar onderstaande website. \nhttps://tetem.nl/athome/evenementen/kidslab-workshop-24-februari/
URL:https://www.fablabcoevorden.nl/agenda/wearables-en-facefilters-online-workshop-via-tetem/
ATTACH;FMTTYPE=image/jpeg:https://www.fablabcoevorden.nl/wp-content/uploads/2021/02/Tetem_KidsLab_Wearables_en_Facefilters_011.jpg
END:VEVENT
END:VCALENDAR