BEGIN:VCALENDAR
VERSION:2.0
PRODID:-//FabLab Coevorden - ECPv6.15.17.1//NONSGML v1.0//EN
CALSCALE:GREGORIAN
METHOD:PUBLISH
X-WR-CALNAME:FabLab Coevorden
X-ORIGINAL-URL:https://www.fablabcoevorden.nl
X-WR-CALDESC:Evenementen voor FabLab Coevorden
REFRESH-INTERVAL;VALUE=DURATION:PT1H
X-Robots-Tag:noindex
X-PUBLISHED-TTL:PT1H
BEGIN:VTIMEZONE
TZID:Europe/Amsterdam
BEGIN:DAYLIGHT
TZOFFSETFROM:+0100
TZOFFSETTO:+0200
TZNAME:CEST
DTSTART:20190331T010000
END:DAYLIGHT
BEGIN:STANDARD
TZOFFSETFROM:+0200
TZOFFSETTO:+0100
TZNAME:CET
DTSTART:20191027T010000
END:STANDARD
BEGIN:DAYLIGHT
TZOFFSETFROM:+0100
TZOFFSETTO:+0200
TZNAME:CEST
DTSTART:20200329T010000
END:DAYLIGHT
BEGIN:STANDARD
TZOFFSETFROM:+0200
TZOFFSETTO:+0100
TZNAME:CET
DTSTART:20201025T010000
END:STANDARD
BEGIN:DAYLIGHT
TZOFFSETFROM:+0100
TZOFFSETTO:+0200
TZNAME:CEST
DTSTART:20210328T010000
END:DAYLIGHT
BEGIN:STANDARD
TZOFFSETFROM:+0200
TZOFFSETTO:+0100
TZNAME:CET
DTSTART:20211031T010000
END:STANDARD
BEGIN:DAYLIGHT
TZOFFSETFROM:+0100
TZOFFSETTO:+0200
TZNAME:CEST
DTSTART:20220327T010000
END:DAYLIGHT
BEGIN:STANDARD
TZOFFSETFROM:+0200
TZOFFSETTO:+0100
TZNAME:CET
DTSTART:20221030T010000
END:STANDARD
BEGIN:DAYLIGHT
TZOFFSETFROM:+0100
TZOFFSETTO:+0200
TZNAME:CEST
DTSTART:20230326T010000
END:DAYLIGHT
BEGIN:STANDARD
TZOFFSETFROM:+0200
TZOFFSETTO:+0100
TZNAME:CET
DTSTART:20231029T010000
END:STANDARD
BEGIN:DAYLIGHT
TZOFFSETFROM:+0100
TZOFFSETTO:+0200
TZNAME:CEST
DTSTART:20240331T010000
END:DAYLIGHT
BEGIN:STANDARD
TZOFFSETFROM:+0200
TZOFFSETTO:+0100
TZNAME:CET
DTSTART:20241027T010000
END:STANDARD
END:VTIMEZONE
BEGIN:VEVENT
DTSTART;TZID=Europe/Amsterdam:20230208T190000
DTEND;TZID=Europe/Amsterdam:20230208T210000
DTSTAMP:20260420T054451
CREATED:20221018T105632Z
LAST-MODIFIED:20221018T105632Z
UID:1702-1675882800-1675890000@www.fablabcoevorden.nl
SUMMARY:Taartoppers (workshop volwassenen)
DESCRIPTION:Maak zelf een unieke taarttopper. Onder begeleiding van een coach maak jij een ontwerp op de computer. Je kunt het ontwerp uniek maken met een persoonlijke tekst of naam. Hoe gaat jouw taartopper eruit zien? \nOf je nu wel of geen ervaring hebt op de computer. Iedereen gaat naar huis met 1 taarttopper uit plexiglas (keuze uit diverse kleuren). \nDe workshop is inclusief materialen\, koffie/thee en wat lekkers. \nBetaling kan ook met de DOE-MEE pas. \n\nMeldt je aan op de FabLab website (kies betalen op locatie).\nGa naar de DOE-MEE webwinkel en bestel “workshop voor volwassenen”.
URL:https://www.fablabcoevorden.nl/agenda/taartoppers-workshop-volwassenen/
LOCATION:FabLab Coevorden\, Graaf van Heiden Reinesteinlaan\, Coevorden\, 7742
CATEGORIES:Workshop
ATTACH;FMTTYPE=image/jpeg:https://www.fablabcoevorden.nl/wp-content/uploads/2022/10/TaarttopperHappyBirthday_taart.jpg
END:VEVENT
BEGIN:VEVENT
DTSTART;TZID=Europe/Amsterdam:20221116T190000
DTEND;TZID=Europe/Amsterdam:20221116T210000
DTSTAMP:20260420T054451
CREATED:20221018T104912Z
LAST-MODIFIED:20221018T105229Z
UID:1692-1668625200-1668632400@www.fablabcoevorden.nl
SUMMARY:Droogbloemenraam (workshop volwassenen)
DESCRIPTION:Maak zelf een unieke droogbloemenraam. Onder begeleiding van een coach maak jij een ontwerp op de computer. Je kunt het ontwerp uniek maken met een persoonlijke tekst. Nadat het ontwerp uitgesneden is met een lasersnijder kun je aan de slag met de droogbloemen. \nOf je nu wel of geen ervaring hebt op de computer. Iedereen gaat naar huis met een mooie droogbloem houder. \nDe workshop is inclusief materialen\, koffie/thee en wat lekkers. \nBetaling kan ook met de DOE-MEE pas. \n\nMeldt je aan op de FabLab website (kies betalen op locatie).\nGa naar de DOE-MEE webwinkel en bestel “workshop voor volwassenen”.\n\n 
URL:https://www.fablabcoevorden.nl/agenda/droogbloemenraam-workshop-volwassenen/
LOCATION:FabLab Coevorden\, Graaf van Heiden Reinesteinlaan\, Coevorden\, 7742
CATEGORIES:Workshop
ATTACH;FMTTYPE=image/jpeg:https://www.fablabcoevorden.nl/wp-content/uploads/2022/10/Droogbloemenraam-rechthoek-crop-scaled.jpg
END:VEVENT
BEGIN:VEVENT
DTSTART;TZID=Europe/Amsterdam:20220615T190000
DTEND;TZID=Europe/Amsterdam:20220615T210000
DTSTAMP:20260420T054451
CREATED:20220422T073929Z
LAST-MODIFIED:20220422T074114Z
UID:1412-1655319600-1655326800@www.fablabcoevorden.nl
SUMMARY:Vervolg workshop 3D printen/Lasersnijden (volwassenen)
DESCRIPTION:Heb je de basisworkshop 3D printen en/of lasersnijden bij ons gevolgd? Smaakte dat naar meer en wil je onder begeleiding aan een nieuw project werken? Schrijf je dan in voor de vervolgworkshop. \nWe geven een opfris instructie met de belangrijkste functies van Tinkercad. We hebben vervolgens diverse projecten waar je mee aan de slag kunt. Uiteraard kun je ook met een eigen idee aan de slag. \nDe coaches staan klaar om je te helpen. Heb je een project waar je meer dan 2 uur voor nodig hebt? Je kunt nu heel eenvoudig thuis verder of je schrijft je voor een nieuwe vervolgworkshop in. \nWat kun je zoal ontwerpen voor de 3D printer: \nSieraden \nHandige hulpmiddelen in en rondom het huis \nCupcake versiering \nVervanging kapotte onderdelen \nJe eigen speelstukken (spel onderdelen) \nPlantensteker \nBoekenlegger \nOphanghaakjes voor gereedschap \n….etc. \nWat kun je zoal ontwerpen voor de lasersnijder: \nSieraden \nWandborden/naambordjes \nCupcake/taart versiering \nBakjes \nHouten “planten” \nAccessoires voor in huis \nMoestuinbordjes \n…etc.
URL:https://www.fablabcoevorden.nl/agenda/vervolg-workshop-3d-printen-lasersnijden-volwassenen/
LOCATION:FabLab Coevorden\, Graaf van Heiden Reinesteinlaan\, Coevorden\, 7742
CATEGORIES:Workshop
ATTACH;FMTTYPE=image/jpeg:https://www.fablabcoevorden.nl/wp-content/uploads/2022/04/20220323_192611-scaled.jpg
END:VEVENT
BEGIN:VEVENT
DTSTART;TZID=Europe/Amsterdam:20220602T190000
DTEND;TZID=Europe/Amsterdam:20220602T210000
DTSTAMP:20260420T054451
CREATED:20220419T100605Z
LAST-MODIFIED:20220419T100605Z
UID:1404-1654196400-1654203600@www.fablabcoevorden.nl
SUMMARY:Basisworkshop 3D printen (volwassenen)
DESCRIPTION:In deze workshop leren je we je de beginselen van het 3D printen. We leren je hoe een 3D printer werkt en hoe je een ontwerp maakt dat geschikt is voor de 3D printer.  Hiervoor leren we je tekenen in Tinkercad. \nWe leren je welke stappen er nodig zijn om van een ontwerp op de computer tot een fysiek voorwerp te komen. Je voert in deze basiscursus nog niet alle stappen zelf uit. \nDe nadruk ligt op leren ontwerpen in Tinkercad voor de 3D printer. Wil je zelfstandig een ontwerp kunnen “slicen” en de printer bedienen. Volg dan (ook) de verdiepende workshop 3D printen. \nCursusmateriaal (inbegrepen in prijs) \n\nHandboek Basis 3D tekenen met Tinkercad\nEén keuzekaart\nEen print in een kleur naar keuze van het eigen ontwerp.\n\nLaptop & Software: aanwezig in het FabLab\nVoorkennis: niet nodig \nAanmelden – klik hier. \nBetalen kan ook met de DOE-Mee pas!
URL:https://www.fablabcoevorden.nl/agenda/basisworkshop-3d-printen-volwassenen-2/
LOCATION:FabLab Coevorden\, Graaf van Heiden Reinesteinlaan\, Coevorden\, 7742
CATEGORIES:Workshop
ATTACH;FMTTYPE=image/jpeg:https://www.fablabcoevorden.nl/wp-content/uploads/2022/04/20220323_192611-scaled.jpg
END:VEVENT
BEGIN:VEVENT
DTSTART;TZID=Europe/Amsterdam:20220518T190000
DTEND;TZID=Europe/Amsterdam:20220518T210000
DTSTAMP:20260420T054451
CREATED:20220419T100351Z
LAST-MODIFIED:20220419T100351Z
UID:1401-1652900400-1652907600@www.fablabcoevorden.nl
SUMMARY:Basisworkshop lasersnijden (volwassenen)
DESCRIPTION:In deze basisworkshop leren we je de beginselen van het lasersnijden met behulp van de Laserbox lasersnijder. Aan het eind van de workshop kun je (eventueel met behulp van een instructie op papier) de laserbox zelfstandig bedienen. \nVoordat je de Laserbox zelf gaat bedienen maak je eerst een ontwerp in Tinkercad. We leren je waar je op moet letten als je een ontwerp maakt voor een lasersnijder. Je hebt geen voorkennis nodig als het gaat om het maken van een digitaal ontwerp. Heb je wel ervaring in Tinkercad of een ander software programma zoals Inkscape\, autocad oid\, dan kun je die ervaring combineren met het tekenen voor de lasersnijder. \nNa deze workshop kun je zelfstandig aan de slag met Tinkercad en de Laserbox. Het is ook mogelijk een vervolg cursus te doen in de vorm van één van de creatieve workshops. \nCursusmateriaal (inbegrepen in prijs) \n\nHandboek Basis 2D tekenen met Tinkercad\nInstructie Lasersnijden – Laserbox\nEén of meerdere keuzekaarten\nPapier en hout voor het maken van één of meerdere ontwerpen.\n\nLaptop & Software: aanwezig in het FabLab\nVoorkennis: niet nodig \nAanmelden – klik hier. \nBetalen kan ook met de DOE-Mee pas!
URL:https://www.fablabcoevorden.nl/agenda/basisworkshop-lasersnijden-volwassenen/
LOCATION:FabLab Coevorden\, Graaf van Heiden Reinesteinlaan\, Coevorden\, 7742
CATEGORIES:Workshop
ATTACH;FMTTYPE=image/jpeg:https://www.fablabcoevorden.nl/wp-content/uploads/2022/03/20220319_141256-scaled.jpg
END:VEVENT
BEGIN:VEVENT
DTSTART;TZID=Europe/Amsterdam:20220323T190000
DTEND;TZID=Europe/Amsterdam:20220323T210000
DTSTAMP:20260420T054451
CREATED:20220210T094051Z
LAST-MODIFIED:20220210T100341Z
UID:1315-1648062000-1648069200@www.fablabcoevorden.nl
SUMMARY:Basisworkshop 3D printen (volwassenen)
DESCRIPTION:In deze workshop leren je we je de beginselen van het 3D printen. We leren je hoe een 3D printer werkt en hoe je een ontwerp maakt dat geschikt is voor de 3D printer.  Hiervoor leren we je tekenen in Tinkercad. \nWe leren je welke stappen er nodig zijn om van een ontwerp op de computer tot een fysiek voorwerp te komen. Je voert in deze basiscursus nog niet alle stappen zelf uit. \nDe nadruk ligt op leren ontwerpen in Tinkercad voor de 3D printer. Wil je zelfstandig een ontwerp kunnen “slicen” en de printer bedienen. Volg dan (ook) de verdiepende workshop 3D printen. \nCursusmateriaal (inbegrepen in prijs) \n\nHandboek Basis 3D tekenen met Tinkercad\nEén keuzekaart\nEen print in een kleur naar keuze van het eigen ontwerp.\n\nLaptop & Software: aanwezig in het FabLab\nVoorkennis: niet nodig \nAanmelden – klik hier. \nBetalen kan ook met de DOE-Mee pas!
URL:https://www.fablabcoevorden.nl/agenda/basisworkshop-3d-printen-volwassenen/
LOCATION:FabLab Coevorden\, Graaf van Heiden Reinesteinlaan\, Coevorden\, 7742
CATEGORIES:Workshop
ATTACH;FMTTYPE=image/jpeg:https://www.fablabcoevorden.nl/wp-content/uploads/2022/02/PSX_20211028_202116-scaled.jpg
END:VEVENT
BEGIN:VEVENT
DTSTART;TZID=Europe/Amsterdam:20220319T130000
DTEND;TZID=Europe/Amsterdam:20220319T150000
DTSTAMP:20260420T054451
CREATED:20220210T093238Z
LAST-MODIFIED:20220210T100652Z
UID:1310-1647694800-1647702000@www.fablabcoevorden.nl
SUMMARY:Basisworkshop lasersnijden (volwassenen)
DESCRIPTION:In deze basisworkshop leren we je de beginselen van het lasersnijden met behulp van de Laserbox lasersnijder. Aan het eind van de workshop kun je (eventueel met behulp van een instructie op papier) de laserbox zelfstandig bedienen. \nVoordat je de Laserbox zelf gaat bedienen maak je eerst een ontwerp in Tinkercad. We leren je waar je op moet letten als je een ontwerp maakt voor een lasersnijder. Je hebt geen voorkennis nodig als het gaat om het maken van een digitaal ontwerp. Heb je wel ervaring in Tinkercad of een ander software programma zoals Inkscape\, autocad oid\, dan kun je die ervaring combineren met het tekenen voor de lasersnijder. \nNa deze workshop kun je zelfstandig aan de slag met Tinkercad en de Laserbox. Het is ook mogelijk een vervolg cursus te doen in de vorm van één van de creatieve workshops. \nCursusmateriaal (inbegrepen in prijs) \n\nHandboek Basis 2D tekenen met Tinkercad\nInstructie Lasersnijden – Laserbox\nEén of meerdere keuzekaarten\nPapier en hout voor het maken van één of meerdere ontwerpen.\n\nLaptop & Software: aanwezig in het FabLab\nVoorkennis: niet nodig \nAanmelden – klik hier. \nBetalen kan ook met de DOE-Mee pas!
URL:https://www.fablabcoevorden.nl/agenda/basisworkshop-lasersnijden/
LOCATION:FabLab Coevorden\, Graaf van Heiden Reinesteinlaan\, Coevorden\, 7742
CATEGORIES:Workshop
ATTACH;FMTTYPE=image/jpeg:https://www.fablabcoevorden.nl/wp-content/uploads/2022/02/PSX_20211028_200501-scaled.jpg
END:VEVENT
BEGIN:VEVENT
DTSTART;TZID=Europe/Amsterdam:20210520T103000
DTEND;TZID=Europe/Amsterdam:20210520T113000
DTSTAMP:20260420T054451
CREATED:20210419T113854Z
LAST-MODIFIED:20210419T114132Z
UID:785-1621506600-1621510200@www.fablabcoevorden.nl
SUMMARY:Online workshop: kaarten ontwerpen in Tinkercad (18 jaar en ouder)
DESCRIPTION:Deze workshop is speciaal voor volwassenen. Hoe vaak heb ik niet de vraag gekregen van volwassenen of zij ook konden leren werken met bijvoorbeeld de lasersnijder. We kunnen helaas nog niet fysiek bij elkaar komen\, daarom bieden we deze online workshop aan. \nWij leren je hoe je met behulp van het online tekenprogramma Tinkercad een kaart kan ontwerpen voor de lasersnijder. Voorkennis van 2D of 3D tekenen op de computer is niet nodig. Wij beginnen bij het begin. Daarna kun je in je eigen tempo de kaart zo ingewikkeld of mooi mogelijk maken. \nHet volgen van de workshop is gratis. Wil je de kaarten laten maken en versturen\, dan vragen we daar €4\,- materiaal en portokosten voor.  Wij maken dan op de lasersnijder 2 kaarten en sturen die per post naar jou toe. \nSchrijf je hier in en ontvang via de e-mail alle informatie die je nodig hebt.
URL:https://www.fablabcoevorden.nl/agenda/online-workshop-kaarten-ontwerpen-in-tinkercad-18-jaar-en-ouder/
LOCATION:Online
CATEGORIES:Workshop
ATTACH;FMTTYPE=image/jpeg:https://www.fablabcoevorden.nl/wp-content/uploads/2021/04/kaart-lasersnijden-rotated.jpg
END:VEVENT
BEGIN:VEVENT
DTSTART;TZID=Europe/Amsterdam:20210506T103000
DTEND;TZID=Europe/Amsterdam:20210506T113000
DTSTAMP:20260420T054451
CREATED:20210419T114053Z
LAST-MODIFIED:20210419T114053Z
UID:787-1620297000-1620300600@www.fablabcoevorden.nl
SUMMARY:Online workshop: stickers ontwerpen in Tinkercad (8-12 jaar)
DESCRIPTION:Jij zit thuis\, wij in het FabLab. Wij leren je hoe je met het tekenprogramma Tinkercad stickers kunt maken voor de lasersnijder. De workshop duurt ongeveer 1 uur. Daarna kun je zelf verder met je ontwerp. Is je ontwerp klaar\, stuur hem dan per e-mail naar ons op. Wij gaan de stickers voor jou maken in het FabLab. \nHet volgen van de workshop is gratis. Wil jij de stickers thuis per post ontvangen dan betaal je €2\,50 voor porto- en materiaalkosten. \nSchrijf je hier in en ontvang per e-mail alle informatie die je nodig hebt voor de workshop. \n 
URL:https://www.fablabcoevorden.nl/agenda/online-workshop-stickers-ontwerpen-in-tinkercad-8-12-jaar-2/
LOCATION:Online
CATEGORIES:8 - 12 jaar,Workshop
END:VEVENT
BEGIN:VEVENT
DTSTART;TZID=Europe/Amsterdam:20201223T140000
DTEND;TZID=Europe/Amsterdam:20201223T153000
DTSTAMP:20260420T054451
CREATED:20201120T101822Z
LAST-MODIFIED:20201120T101822Z
UID:565-1608732000-1608737400@www.fablabcoevorden.nl
SUMMARY:Speciaal voor meiden van 11-13 jaar: Ontwerp je eigen sieradenlijn (3D tekenen & printen)
DESCRIPTION:Je leert tijdens deze workshop 3D tekenen in Tinkercad. Je mag je eigen ketting\, armband en oorbellen ontwerpen. Je kiest je mooiste ontwerp uit\, deze gaan we voor je printen. Met een beetje geluk kunnen we op de middag zelf je ontwerp nog printen. Lukt dat niet\, dan mag je je ontwerp later ophalen. \nDit jaar (2020) zijn alle workshops nog gratis. Dit omdat wij nog aan het uittesten zijn. Wil je meer dan 1 sieraad printen\, dan kost dit per item €2\,- extra. \nSchrijf je in via https://www.fablabcoevorden.nl/workshops/
URL:https://www.fablabcoevorden.nl/agenda/speciaal-voor-meiden-van-11-13-jaar-ontwerp-je-eigen-sieradenlijn-3d-tekenen-printen/
LOCATION:FabLab Coevorden\, Graaf van Heiden Reinesteinlaan\, Coevorden\, 7742
CATEGORIES:11-13 jaar,Workshop
END:VEVENT
BEGIN:VEVENT
DTSTART;TZID=Europe/Amsterdam:20201216T140000
DTEND;TZID=Europe/Amsterdam:20201216T153000
DTSTAMP:20260420T054451
CREATED:20201102T111818Z
LAST-MODIFIED:20201103T075150Z
UID:543-1608127200-1608132600@www.fablabcoevorden.nl
SUMMARY:Workshop: maak een elektronische kerstkaart
DESCRIPTION:Je kent ze misschien wel\, die kaarten die een liedje spelen zodra je hem open doet. Hoe komt het dat je het liedje niet hoort als de kaart dicht zit? \nWij gaan een soortgelijke kaart maken. Niet met zo’n (irritant/vrolijk) liedje\, maar met een lampje. Je gaat eerst de kaart ontwerpen en vervolgens voeg je het lampje toe. \nWie ga jij verrassen met zo’n speciale kerstkaart? \nDeze workshop is voor kinderen van 8 – 12 jaar.
URL:https://www.fablabcoevorden.nl/agenda/workshop-maak-een-elektronische-kerstkaart/
LOCATION:FabLab Coevorden\, Graaf van Heiden Reinesteinlaan\, Coevorden\, 7742
CATEGORIES:8 - 12 jaar,Workshop
END:VEVENT
BEGIN:VEVENT
DTSTART;TZID=Europe/Amsterdam:20201202T140000
DTEND;TZID=Europe/Amsterdam:20201202T153000
DTSTAMP:20260420T054451
CREATED:20201102T111534Z
LAST-MODIFIED:20201103T075229Z
UID:541-1606917600-1606923000@www.fablabcoevorden.nl
SUMMARY:Workshop: Ontwerp je 3d sleutelhanger (en print hem uit)
DESCRIPTION:Je gaat eerst je sleutelhanger ontwerpen en tekenen in een computerprogramma. Voor de liefhebber\, we werken met Tinkercad. Dat programma kun je heel eenvoudig ook thuis gebruiken. Is je ontwerp klaar? Dan wordt je ontwerp op één van onze 3d printers geprint. Je kunt op een later moment jouw ontworpen sleutelhanger ophalen. \nDeze workshop is voor kinderen van 8-12 jaar.
URL:https://www.fablabcoevorden.nl/agenda/workshop-ontwerp-je-3d-sleutelhanger-en-print-hem-uit-3/
LOCATION:FabLab Coevorden\, Graaf van Heiden Reinesteinlaan\, Coevorden\, 7742
CATEGORIES:8 - 12 jaar,Workshop
END:VEVENT
BEGIN:VEVENT
DTSTART;TZID=Europe/Amsterdam:20201118T140000
DTEND;TZID=Europe/Amsterdam:20201118T153000
DTSTAMP:20260420T054451
CREATED:20201102T111434Z
LAST-MODIFIED:20201103T075256Z
UID:539-1605708000-1605713400@www.fablabcoevorden.nl
SUMMARY:Workshop: Ontwerp je 3d sleutelhanger (en print hem uit)
DESCRIPTION:Je gaat eerst je sleutelhanger ontwerpen en tekenen in een computerprogramma. Voor de liefhebber\, we werken met Tinkercad. Dat programma kun je heel eenvoudig ook thuis gebruiken. Is je ontwerp klaar? Dan wordt je ontwerp op één van onze 3d printers geprint. Je kunt op een later moment jouw ontworpen sleutelhanger ophalen. \nDeze workshop is voor kinderen van 8-12 jaar.
URL:https://www.fablabcoevorden.nl/agenda/workshop-ontwerp-je-3d-sleutelhanger-en-print-hem-uit-2/
LOCATION:FabLab Coevorden\, Graaf van Heiden Reinesteinlaan\, Coevorden\, 7742
CATEGORIES:8 - 12 jaar,Workshop
END:VEVENT
BEGIN:VEVENT
DTSTART;TZID=Europe/Amsterdam:20201016T153000
DTEND;TZID=Europe/Amsterdam:20201016T170000
DTSTAMP:20260420T054451
CREATED:20200922T061101Z
LAST-MODIFIED:20200924T102057Z
UID:400-1602862200-1602867600@www.fablabcoevorden.nl
SUMMARY:Workshop: Ontwerp je 3d sleutelhanger (en print hem uit)
DESCRIPTION:Je gaat eerst je sleutelhanger ontwerpen en tekenen in een computerprogramma. Voor de liefhebber\, we werken met Tinkercad. Dat programma kun je heel eenvoudig ook thuis gebruiken. Is je ontwerp klaar? Dan wordt je ontwerp op één van onze 3d printers geprint. Je gaat naar huis met een mooie persoonlijke sleutelhanger. \nDeze workshop is voor kinderen van 8-12 jaar.
URL:https://www.fablabcoevorden.nl/agenda/workshop-ontwerp-je-3d-sleutelhanger-en-print-hem-uit/
LOCATION:FabLab Coevorden\, Graaf van Heiden Reinesteinlaan\, Coevorden\, 7742
CATEGORIES:8 - 12 jaar,Workshop
END:VEVENT
END:VCALENDAR