BEGIN:VCALENDAR
VERSION:2.0
PRODID:-//FabLab Coevorden - ECPv6.15.20//NONSGML v1.0//EN
CALSCALE:GREGORIAN
METHOD:PUBLISH
X-WR-CALNAME:FabLab Coevorden
X-ORIGINAL-URL:https://www.fablabcoevorden.nl
X-WR-CALDESC:Evenementen voor FabLab Coevorden
REFRESH-INTERVAL;VALUE=DURATION:PT1H
X-Robots-Tag:noindex
X-PUBLISHED-TTL:PT1H
BEGIN:VTIMEZONE
TZID:Europe/Amsterdam
BEGIN:DAYLIGHT
TZOFFSETFROM:+0100
TZOFFSETTO:+0200
TZNAME:CEST
DTSTART:20200329T010000
END:DAYLIGHT
BEGIN:STANDARD
TZOFFSETFROM:+0200
TZOFFSETTO:+0100
TZNAME:CET
DTSTART:20201025T010000
END:STANDARD
BEGIN:DAYLIGHT
TZOFFSETFROM:+0100
TZOFFSETTO:+0200
TZNAME:CEST
DTSTART:20210328T010000
END:DAYLIGHT
BEGIN:STANDARD
TZOFFSETFROM:+0200
TZOFFSETTO:+0100
TZNAME:CET
DTSTART:20211031T010000
END:STANDARD
BEGIN:DAYLIGHT
TZOFFSETFROM:+0100
TZOFFSETTO:+0200
TZNAME:CEST
DTSTART:20220327T010000
END:DAYLIGHT
BEGIN:STANDARD
TZOFFSETFROM:+0200
TZOFFSETTO:+0100
TZNAME:CET
DTSTART:20221030T010000
END:STANDARD
END:VTIMEZONE
BEGIN:VEVENT
DTSTART;TZID=Europe/Amsterdam:20211210T150000
DTEND;TZID=Europe/Amsterdam:20211210T170000
DTSTAMP:20260422T110443
CREATED:20210819T065807Z
LAST-MODIFIED:20211130T094016Z
UID:966-1639148400-1639155600@www.fablabcoevorden.nl
SUMMARY:Club FabLab (10-15 jaar)
DESCRIPTION:Wil jij graag dingen maken? Hou jij van ontwerpen? Ben je nieuwsgierig? Wil je alles weten over programmeren en dat zelf leren? En dat gezellig samen met leeftijdsgenoten die dit ook graag doen? Dan is Club FabLab wat voor jou! \nOnder begeleiding van een professionele coach leer je programmeren. Eerst met Scratch\, maar ga jij als een speer dan leer je misschien wel heel snel Python. Een professionele programmeertaal. De kennis van programmeren gaan jullie gebruiken voor coole andere projecten. \nMisschien willen jullie wel een Robot bouwen die de planten water geeft in het FabLab? Of een muggendetective systeem… Samen kunnen jullie een project verzinnen. En met de Coach kijken jullie wat er voor nodig is om dit te ontwerpen en bouwen (Micro: Bit\, arduino\, 3D printer\, lasernijder…). \nBen jij nieuwsgierig? Kom dan gewoon een keertje kijken of Club Fablab wat voor jou is. De eerste keer is gratis. Ben je enthousiast\, dan kun je je per half jaar opgeven. \nWanneer: Elke 2e vrijdag van de maand van 15.30 – 17.30\nWaar: In het FabLab (ingang Graaf van Heidenreinesteinlaan). \nTarief september t/m december: Van €30 (4 maand) voor €22\,50 (je mag een keer gratis meedoen). Aanmelden met DOE-Mee pas is mogelijk.
URL:https://www.fablabcoevorden.nl/agenda/club-fablab-10-15-jaar-4/
LOCATION:FabLab Coevorden\, Graaf van Heiden Reinesteinlaan\, Coevorden\, 7742
CATEGORIES:Club FabLab
ATTACH;FMTTYPE=image/jpeg:https://www.fablabcoevorden.nl/wp-content/uploads/2021/08/20210714_093308-scaled.jpg
END:VEVENT
BEGIN:VEVENT
DTSTART;TZID=Europe/Amsterdam:20211112T153000
DTEND;TZID=Europe/Amsterdam:20211112T173000
DTSTAMP:20260422T110443
CREATED:20210819T065616Z
LAST-MODIFIED:20210819T073243Z
UID:964-1636731000-1636738200@www.fablabcoevorden.nl
SUMMARY:Club FabLab (10-15 jaar)
DESCRIPTION:Wil jij graag dingen maken? Hou jij van ontwerpen? Ben je nieuwsgierig? Wil je alles weten over programmeren en dat zelf leren? En dat gezellig samen met leeftijdsgenoten die dit ook graag doen? Dan is Club FabLab wat voor jou! \nOnder begeleiding van een professionele coach leer je programmeren. Eerst met Scratch\, maar ga jij als een speer dan leer je misschien wel heel snel Python. Een professionele programmeertaal. De kennis van programmeren gaan jullie gebruiken voor coole andere projecten. \nMisschien willen jullie wel een Robot bouwen die de planten water geeft in het FabLab? Of een muggendetective systeem… Samen kunnen jullie een project verzinnen. En met de Coach kijken jullie wat er voor nodig is om dit te ontwerpen en bouwen (Micro: Bit\, arduino\, 3D printer\, lasernijder…). \nBen jij nieuwsgierig? Kom dan gewoon een keertje kijken of Club Fablab wat voor jou is. De eerste keer is gratis. Ben je enthousiast\, dan kun je je per half jaar opgeven. \nWanneer: Elke 2e vrijdag van de maand van 15.30 – 17.30\nWaar: In het FabLab (ingang Graaf van Heidenreinesteinlaan). \nTarief september t/m december: Van €30 (4 maand) voor €22\,50 (je mag een keer gratis meedoen). Aanmelden met DOE-Mee pas is mogelijk.
URL:https://www.fablabcoevorden.nl/agenda/club-fablab-10-15-jaar-3/
LOCATION:FabLab Coevorden\, Graaf van Heiden Reinesteinlaan\, Coevorden\, 7742
CATEGORIES:Club FabLab
ATTACH;FMTTYPE=image/jpeg:https://www.fablabcoevorden.nl/wp-content/uploads/2021/08/20210714_093308-scaled.jpg
END:VEVENT
BEGIN:VEVENT
DTSTART;TZID=Europe/Amsterdam:20211008T153000
DTEND;TZID=Europe/Amsterdam:20211008T173000
DTSTAMP:20260422T110443
CREATED:20210819T065513Z
LAST-MODIFIED:20210819T073224Z
UID:962-1633707000-1633714200@www.fablabcoevorden.nl
SUMMARY:Club FabLab (10-15 jaar)
DESCRIPTION:Wil jij graag dingen maken? Hou jij van ontwerpen? Ben je nieuwsgierig? Wil je alles weten over programmeren en dat zelf leren? En dat gezellig samen met leeftijdsgenoten die dit ook graag doen? Dan is Club FabLab wat voor jou! \nOnder begeleiding van een professionele coach leer je programmeren. Eerst met Scratch\, maar ga jij als een speer dan leer je misschien wel heel snel Python. Een professionele programmeertaal. De kennis van programmeren gaan jullie gebruiken voor coole andere projecten. \nMisschien willen jullie wel een Robot bouwen die de planten water geeft in het FabLab? Of een muggendetective systeem… Samen kunnen jullie een project verzinnen. En met de Coach kijken jullie wat er voor nodig is om dit te ontwerpen en bouwen (Micro: Bit\, arduino\, 3D printer\, lasernijder…). \nBen jij nieuwsgierig? Kom dan gewoon een keertje kijken of Club Fablab wat voor jou is. De eerste keer is gratis. Ben je enthousiast\, dan kun je je per half jaar opgeven. \nWanneer: Elke 2e vrijdag van de maand van 15.30 – 17.30\nWaar: In het FabLab (ingang Graaf van Heidenreinesteinlaan). \nTarief september t/m december: Van €30 (4 maand) voor €22\,50 (je mag een keer gratis meedoen). Aanmelden met DOE-Mee pas is mogelijk.
URL:https://www.fablabcoevorden.nl/agenda/club-fablab-10-15-jaar-2/
LOCATION:FabLab Coevorden\, Graaf van Heiden Reinesteinlaan\, Coevorden\, 7742
CATEGORIES:Club FabLab
ATTACH;FMTTYPE=image/jpeg:https://www.fablabcoevorden.nl/wp-content/uploads/2021/08/20210714_093308-scaled.jpg
END:VEVENT
BEGIN:VEVENT
DTSTART;TZID=Europe/Amsterdam:20210910T153000
DTEND;TZID=Europe/Amsterdam:20210910T173000
DTSTAMP:20260422T110443
CREATED:20210819T065324Z
LAST-MODIFIED:20210819T073148Z
UID:959-1631287800-1631295000@www.fablabcoevorden.nl
SUMMARY:Club FabLab (10-15 jaar)
DESCRIPTION:Wil jij graag dingen maken? Hou jij van ontwerpen? Ben je nieuwsgierig? Wil je alles weten over programmeren en dat zelf leren? En dat gezellig samen met leeftijdsgenoten die dit ook graag doen? Dan is Club FabLab wat voor jou! \nOnder begeleiding van een professionele coach leer je programmeren. Eerst met Scratch\, maar ga jij als een speer dan leer je misschien wel heel snel Python. Een professionele programmeertaal. De kennis van programmeren gaan jullie gebruiken voor coole andere projecten. \nMisschien willen jullie wel een Robot bouwen die de planten water geeft in het FabLab? Of een muggendetective systeem… Samen kunnen jullie een project verzinnen. En met de Coach kijken jullie wat er voor nodig is om dit te ontwerpen en bouwen (Micro: Bit\, arduino\, 3D printer\, lasernijder…). \nBen jij nieuwsgierig? Kom dan gewoon een keertje kijken of Club Fablab wat voor jou is. De eerste keer is gratis. Ben je enthousiast\, dan kun je je per half jaar opgeven. \nWanneer: Elke 2e vrijdag van de maand van 15.30 – 17.30\nWaar: In het FabLab (ingang Graaf van Heidenreinesteinlaan). \nTarief september t/m december: Van €30 (4 maand) voor €22\,50 (je mag een keer gratis meedoen). Aanmelden met DOE-Mee pas is mogelijk.
URL:https://www.fablabcoevorden.nl/agenda/club-fablab-10-15-jaar/
LOCATION:FabLab Coevorden\, Graaf van Heiden Reinesteinlaan\, Coevorden\, 7742
CATEGORIES:Club FabLab
ATTACH;FMTTYPE=image/jpeg:https://www.fablabcoevorden.nl/wp-content/uploads/2021/08/20210714_093308-scaled.jpg
END:VEVENT
END:VCALENDAR