BEGIN:VCALENDAR
VERSION:2.0
PRODID:-//FabLab Coevorden - ECPv6.15.17.1//NONSGML v1.0//EN
CALSCALE:GREGORIAN
METHOD:PUBLISH
X-ORIGINAL-URL:https://www.fablabcoevorden.nl
X-WR-CALDESC:Evenementen voor FabLab Coevorden
REFRESH-INTERVAL;VALUE=DURATION:PT1H
X-Robots-Tag:noindex
X-PUBLISHED-TTL:PT1H
BEGIN:VTIMEZONE
TZID:Europe/Amsterdam
BEGIN:DAYLIGHT
TZOFFSETFROM:+0100
TZOFFSETTO:+0200
TZNAME:CEST
DTSTART:20200329T010000
END:DAYLIGHT
BEGIN:STANDARD
TZOFFSETFROM:+0200
TZOFFSETTO:+0100
TZNAME:CET
DTSTART:20201025T010000
END:STANDARD
BEGIN:DAYLIGHT
TZOFFSETFROM:+0100
TZOFFSETTO:+0200
TZNAME:CEST
DTSTART:20210328T010000
END:DAYLIGHT
BEGIN:STANDARD
TZOFFSETFROM:+0200
TZOFFSETTO:+0100
TZNAME:CET
DTSTART:20211031T010000
END:STANDARD
BEGIN:DAYLIGHT
TZOFFSETFROM:+0100
TZOFFSETTO:+0200
TZNAME:CEST
DTSTART:20220327T010000
END:DAYLIGHT
BEGIN:STANDARD
TZOFFSETFROM:+0200
TZOFFSETTO:+0100
TZNAME:CET
DTSTART:20221030T010000
END:STANDARD
BEGIN:DAYLIGHT
TZOFFSETFROM:+0100
TZOFFSETTO:+0200
TZNAME:CEST
DTSTART:20230326T010000
END:DAYLIGHT
BEGIN:STANDARD
TZOFFSETFROM:+0200
TZOFFSETTO:+0100
TZNAME:CET
DTSTART:20231029T010000
END:STANDARD
END:VTIMEZONE
BEGIN:VEVENT
DTSTART;TZID=Europe/Amsterdam:20221007T153000
DTEND;TZID=Europe/Amsterdam:20221007T173000
DTSTAMP:20260420T091847
CREATED:20220906T080342Z
LAST-MODIFIED:20221006T085715Z
UID:1603-1665156600-1665163800@www.fablabcoevorden.nl
SUMMARY:Club Fablab - vrijdag (10-15 jaar)
DESCRIPTION:Hou jij van ontwerpen\, programmeren\, dingen maken\, sleutelen of van andere technische dingen? Wil je nieuwe dingen proberen samen met anderen? Dan is Club FabLab wat voor jou! \nJij ontdekt jouw technisch talent door proberen. Je probeert alle verschillende technieken uit die wij aanbieden. Jij ontdekt wat je het leukste vindt en waar je meer van wilt kunnen. Daar ga je mee door (en die andere dingen komen vast ook nog van pas\, want als je technieken kunt gaan combineren wordt het nog leuker). \nJe gaat aan de slag met programmeren in Scratch en ontwerpen in Tinkercad. Tussendoor leer je van alles over 3D printers\, lasersnijders en andere machines. Je werkt lekker in je eigen tempo. Wil je langer met iets bezig zijn\, dan kom je in een half jaar nog niet aan alles toe. Maar dat is niet erg\, dan kom je gewoon weer terug! \nWil je meedoen? Mail dan naar welkom@fablabcoevorden.nl en vraag een gratis proefles aan. Jij hoort dan op welk moment we een plekje voor je hebben. \nLeeftijdsindicatie: 10-15 jaar (we maken uitzonderingen\, maar dat doen we in goed overleg). \nPrijs per middag: €7\,50 -> betaling gebeurd per half jaar\, meestal een 8-tal bijeenkomsten. \nTijdstippen: elke vrijdagmiddag (even week) van 15.30-17.30 (niet tijdens vakanties) \nData periode september  t/m december 2022: \n\n23 september\n7 oktober\n4 november\n18 november\n2 december\n16 december
URL:https://www.fablabcoevorden.nl/agenda/club-fablab-10-15-jaar-17/
LOCATION:FabLab Coevorden\, Graaf van Heiden Reinesteinlaan\, Coevorden\, 7742
CATEGORIES:Club FabLab
ATTACH;FMTTYPE=image/jpeg:https://www.fablabcoevorden.nl/wp-content/uploads/2022/02/20210602_145647-scaled.jpg
END:VEVENT
BEGIN:VEVENT
DTSTART;TZID=Europe/Amsterdam:20220923T153000
DTEND;TZID=Europe/Amsterdam:20220923T173000
DTSTAMP:20260420T091847
CREATED:20220906T080215Z
LAST-MODIFIED:20220906T080215Z
UID:1601-1663947000-1663954200@www.fablabcoevorden.nl
SUMMARY:Club FabLab (10-15 jaar)
DESCRIPTION:Hou jij van ontwerpen\, programmeren\, dingen maken\, sleutelen of van andere technische dingen? Wil je nieuwe dingen proberen samen met anderen? Dan is Club FabLab wat voor jou! \nJij ontdekt jouw technisch talent door proberen. Je probeert alle verschillende technieken uit die wij aanbieden. Jij ontdekt wat je het leukste vindt en waar je meer van wilt kunnen. Daar ga je mee door (en die andere dingen komen vast ook nog van pas\, want als je technieken kunt gaan combineren wordt het nog leuker). \nJe gaat aan de slag met programmeren in Scratch en ontwerpen in Tinkercad. Tussendoor leer je van alles over 3D printers\, lasersnijders en andere machines. Je werkt lekker in je eigen tempo. Wil je langer met iets bezig zijn\, dan kom je in een half jaar nog niet aan alles toe. Maar dat is niet erg\, dan kom je gewoon weer terug! \nWil je meedoen? Mail dan naar welkom@fablabcoevorden.nl en vraag een gratis proefles aan. Jij hoort dan op welk moment we een plekje voor je hebben. \nLeeftijdsindicatie: 10-15 jaar (we maken uitzonderingen\, maar dat doen we in goed overleg). \nPrijs per middag: €7\,50 -> betaling gebeurd per half jaar\, meestal een 8-tal bijeenkomsten. \nTijdstippen: elke vrijdagmiddag (even week) van 15.30-17.30 (niet tijdens vakanties) \nData periode september  t/m december 2022: \n\n23 september\n7 oktober\n4 november\n18 november\n2 december\n16 december
URL:https://www.fablabcoevorden.nl/agenda/club-fablab-10-15-jaar-16/
LOCATION:FabLab Coevorden\, Graaf van Heiden Reinesteinlaan\, Coevorden\, 7742
CATEGORIES:Club FabLab
ATTACH;FMTTYPE=image/jpeg:https://www.fablabcoevorden.nl/wp-content/uploads/2022/07/IMG-20220610-WA0005.jpg
END:VEVENT
BEGIN:VEVENT
DTSTART;TZID=Europe/Amsterdam:20220624T153000
DTEND;TZID=Europe/Amsterdam:20220624T173000
DTSTAMP:20260420T091847
CREATED:20220117T132451Z
LAST-MODIFIED:20220404T072506Z
UID:1227-1656084600-1656091800@www.fablabcoevorden.nl
SUMMARY:Club FabLab (10-15 jaar)
DESCRIPTION:Hou jij van het maken\, ontwerpen van (mooie) dingen? Wil jij graag weten hoe je een eigen game kunt maken? Wil jij lichtjes laten branden in jouw ontworpen huisje? Of…. We kunnen hier niet allemaal opnoemen wat je allemaal voor moois kunt maken als je een beetje handig met techniek bent. Of je nu graag sieraden of accessoires voor in je kamer wilt maken of liever een alarm voor op je kamer.. het kan allemaal met de machines en materialen die we in het Fablab hebben. \nWij leren je tijdens Club Fablab verschillende technieken die je nodig hebt voor het maken van dit soort dingen. Als je vaker komt en hier handig in wordt\, dan gaan we aan de slag met verschillende projecten. Je begint met het leren programmeren\, 3D printen\, lasersnijden en solderen. En dit alles kan in je eigen tempo\, maar wel gezellig met andere jongens en meiden. \nNieuwsgierig? Kom gewoon gratis een keertje kijken of het wat voor je is! Als het je wat lijkt\, dan geef je je per half jaar op. Vul dit formulier in en we maken een afspraak om te komen kijken. \nWanneer: elke 2e en 4e vrijdag van de maand van 15.30-17.30\nKosten: 7\,50 per keer\, inclusief materialen.
URL:https://www.fablabcoevorden.nl/agenda/club-fablab-10-15-jaar-15/
LOCATION:FabLab Coevorden\, Graaf van Heiden Reinesteinlaan\, Coevorden\, 7742
CATEGORIES:Club FabLab
ATTACH;FMTTYPE=image/jpeg:https://www.fablabcoevorden.nl/wp-content/uploads/2021/12/solderen-club-fablab-1-scaled.jpg
END:VEVENT
BEGIN:VEVENT
DTSTART;TZID=Europe/Amsterdam:20220610T153000
DTEND;TZID=Europe/Amsterdam:20220610T173000
DTSTAMP:20260420T091847
CREATED:20220117T132333Z
LAST-MODIFIED:20220404T072622Z
UID:1225-1654875000-1654882200@www.fablabcoevorden.nl
SUMMARY:Club FabLab (10-15 jaar)
DESCRIPTION:Hou jij van het maken\, ontwerpen van (mooie) dingen? Wil jij graag weten hoe je een eigen game kunt maken? Wil jij lichtjes laten branden in jouw ontworpen huisje? Of…. We kunnen hier niet allemaal opnoemen wat je allemaal voor moois kunt maken als je een beetje handig met techniek bent. Of je nu graag sieraden of accessoires voor in je kamer wilt maken of liever een alarm voor op je kamer.. het kan allemaal met de machines en materialen die we in het Fablab hebben. \nWij leren je tijdens Club Fablab verschillende technieken die je nodig hebt voor het maken van dit soort dingen. Als je vaker komt en hier handig in wordt\, dan gaan we aan de slag met verschillende projecten. Je begint met het leren programmeren\, 3D printen\, lasersnijden en solderen. En dit alles kan in je eigen tempo\, maar wel gezellig met andere jongens en meiden. \nNieuwsgierig? Kom gewoon gratis een keertje kijken of het wat voor je is! Als het je wat lijkt\, dan geef je je per half jaar op. Vul dit formulier in en we maken een afspraak om te komen kijken. \nWanneer: elke 2e en 4e vrijdag van de maand van 15.30-17.30\nKosten: 7\,50 per keer\, inclusief materialen.
URL:https://www.fablabcoevorden.nl/agenda/club-fablab-10-15-jaar-14/
LOCATION:FabLab Coevorden\, Graaf van Heiden Reinesteinlaan\, Coevorden\, 7742
CATEGORIES:Club FabLab
ATTACH;FMTTYPE=image/jpeg:https://www.fablabcoevorden.nl/wp-content/uploads/2021/12/club-FabLab-programmeren-scaled.jpg
END:VEVENT
BEGIN:VEVENT
DTSTART;TZID=Europe/Amsterdam:20220527T153000
DTEND;TZID=Europe/Amsterdam:20220527T173000
DTSTAMP:20260420T091847
CREATED:20220117T132223Z
LAST-MODIFIED:20220404T072707Z
UID:1223-1653665400-1653672600@www.fablabcoevorden.nl
SUMMARY:Club FabLab (10 -15 jaar)
DESCRIPTION:Hou jij van het maken\, ontwerpen van (mooie) dingen? Wil jij graag weten hoe je een eigen game kunt maken? Wil jij lichtjes laten branden in jouw ontworpen huisje? Of…. We kunnen hier niet allemaal opnoemen wat je allemaal voor moois kunt maken als je een beetje handig met techniek bent. Of je nu graag sieraden of accessoires voor in je kamer wilt maken of liever een alarm voor op je kamer.. het kan allemaal met de machines en materialen die we in het Fablab hebben. \nWij leren je tijdens Club Fablab verschillende technieken die je nodig hebt voor het maken van dit soort dingen. Als je vaker komt en hier handig in wordt\, dan gaan we aan de slag met verschillende projecten. Je begint met het leren programmeren\, 3D printen\, lasersnijden en solderen. En dit alles kan in je eigen tempo\, maar wel gezellig met andere jongens en meiden. \nNieuwsgierig? Kom gewoon gratis een keertje kijken of het wat voor je is! Als het je wat lijkt\, dan geef je je per half jaar op. Vul dit formulier in en we maken een afspraak om te komen kijken. \nWanneer: elke 2e en 4e vrijdag van de maand van 15.30-17.30\nKosten: 7\,50 per keer\, inclusief materialen.
URL:https://www.fablabcoevorden.nl/agenda/club-fablab-10-15-jaar-13/
LOCATION:FabLab Coevorden\, Graaf van Heiden Reinesteinlaan\, Coevorden\, 7742
CATEGORIES:Club FabLab
ATTACH;FMTTYPE=image/jpeg:https://www.fablabcoevorden.nl/wp-content/uploads/2022/01/instructie-lezen-scaled.jpg
END:VEVENT
BEGIN:VEVENT
DTSTART;TZID=Europe/Amsterdam:20220513T153000
DTEND;TZID=Europe/Amsterdam:20220513T173000
DTSTAMP:20260420T091847
CREATED:20220117T132100Z
LAST-MODIFIED:20220404T072748Z
UID:1221-1652455800-1652463000@www.fablabcoevorden.nl
SUMMARY:Club FabLab (10-15 jaar)
DESCRIPTION:Hou jij van het maken\, ontwerpen van (mooie) dingen? Wil jij graag weten hoe je een eigen game kunt maken? Wil jij lichtjes laten branden in jouw ontworpen huisje? Of…. We kunnen hier niet allemaal opnoemen wat je allemaal voor moois kunt maken als je een beetje handig met techniek bent. Of je nu graag sieraden of accessoires voor in je kamer wilt maken of liever een alarm voor op je kamer.. het kan allemaal met de machines en materialen die we in het Fablab hebben. \nWij leren je tijdens Club Fablab verschillende technieken die je nodig hebt voor het maken van dit soort dingen. Als je vaker komt en hier handig in wordt\, dan gaan we aan de slag met verschillende projecten. Je begint met het leren programmeren\, 3D printen\, lasersnijden en solderen. En dit alles kan in je eigen tempo\, maar wel gezellig met andere jongens en meiden. \nNieuwsgierig? Kom gewoon gratis een keertje kijken of het wat voor je is! Als het je wat lijkt\, dan geef je je per half jaar op. Vul dit formulier in en we maken een afspraak om te komen kijken. \nWanneer: elke 2e en 4e vrijdag van de maand van 15.30-17.30\nKosten: 7\,50 per keer\, inclusief materialen.
URL:https://www.fablabcoevorden.nl/agenda/club-fablab-10-15-jaar-12/
LOCATION:FabLab Coevorden\, Graaf van Heiden Reinesteinlaan\, Coevorden\, 7742
CATEGORIES:Club FabLab
ATTACH;FMTTYPE=image/jpeg:https://www.fablabcoevorden.nl/wp-content/uploads/2021/12/solderen-jongen.jpg
END:VEVENT
BEGIN:VEVENT
DTSTART;TZID=Europe/Amsterdam:20220422T153000
DTEND;TZID=Europe/Amsterdam:20220422T173000
DTSTAMP:20260420T091847
CREATED:20220117T131950Z
LAST-MODIFIED:20220404T072854Z
UID:1219-1650641400-1650648600@www.fablabcoevorden.nl
SUMMARY:Club FabLab (10-15 jaar)
DESCRIPTION:Hou jij van het maken\, ontwerpen van (mooie) dingen? Wil jij graag weten hoe je een eigen game kunt maken? Wil jij lichtjes laten branden in jouw ontworpen huisje? Of…. We kunnen hier niet allemaal opnoemen wat je allemaal voor moois kunt maken als je een beetje handig met techniek bent. Of je nu graag sieraden of accessoires voor in je kamer wilt maken of liever een alarm voor op je kamer.. het kan allemaal met de machines en materialen die we in het Fablab hebben. \nWij leren je tijdens Club Fablab verschillende technieken die je nodig hebt voor het maken van dit soort dingen. Als je vaker komt en hier handig in wordt\, dan gaan we aan de slag met verschillende projecten. Je begint met het leren programmeren\, 3D printen\, lasersnijden en solderen. En dit alles kan in je eigen tempo\, maar wel gezellig met andere jongens en meiden. \nNieuwsgierig? Kom gewoon gratis een keertje kijken of het wat voor je is! Als het je wat lijkt\, dan geef je je per half jaar op. Vul dit formulier in en we maken een afspraak om te komen kijken. \nWanneer: elke 2e en 4e vrijdag van de maand van 15.30-17.30\nKosten: 7\,50 per keer\, inclusief materialen.
URL:https://www.fablabcoevorden.nl/agenda/club-fablab-10-15-jaar-11/
LOCATION:FabLab Coevorden\, Graaf van Heiden Reinesteinlaan\, Coevorden\, 7742
CATEGORIES:Club FabLab
ATTACH;FMTTYPE=image/jpeg:https://www.fablabcoevorden.nl/wp-content/uploads/2022/01/instructie-lezen-scaled.jpg
END:VEVENT
BEGIN:VEVENT
DTSTART;TZID=Europe/Amsterdam:20220408T153000
DTEND;TZID=Europe/Amsterdam:20220408T173000
DTSTAMP:20260420T091847
CREATED:20220117T131837Z
LAST-MODIFIED:20220404T072958Z
UID:1217-1649431800-1649439000@www.fablabcoevorden.nl
SUMMARY:Club FabLab (10-15 jaar)
DESCRIPTION:Hou jij van het maken\, ontwerpen van (mooie) dingen? Wil jij graag weten hoe je een eigen game kunt maken? Wil jij lichtjes laten branden in jouw ontworpen huisje? Of…. We kunnen hier niet allemaal opnoemen wat je allemaal voor moois kunt maken als je een beetje handig met techniek bent. Of je nu graag sieraden of accessoires voor in je kamer wilt maken of liever een alarm voor op je kamer.. het kan allemaal met de machines en materialen die we in het Fablab hebben. \nWij leren je tijdens Club Fablab verschillende technieken die je nodig hebt voor het maken van dit soort dingen. Als je vaker komt en hier handig in wordt\, dan gaan we aan de slag met verschillende projecten. Je begint met het leren programmeren\, 3D printen\, lasersnijden en solderen. En dit alles kan in je eigen tempo\, maar wel gezellig met andere jongens en meiden. \nNieuwsgierig? Kom gewoon gratis een keertje kijken of het wat voor je is! Als het je wat lijkt\, dan geef je je per half jaar op. Vul dit formulier in en we maken een afspraak om te komen kijken. \nWanneer: elke 2e en 4e vrijdag van de maand van 15.30-17.30\nKosten: 7\,50 per keer\, inclusief materialen.
URL:https://www.fablabcoevorden.nl/agenda/club-fablab-10-15-jaar-10/
LOCATION:FabLab Coevorden\, Graaf van Heiden Reinesteinlaan\, Coevorden\, 7742
CATEGORIES:Club FabLab
ATTACH;FMTTYPE=image/jpeg:https://www.fablabcoevorden.nl/wp-content/uploads/2021/12/club-FabLab-programmeren-scaled.jpg
END:VEVENT
BEGIN:VEVENT
DTSTART;TZID=Europe/Amsterdam:20220311T153000
DTEND;TZID=Europe/Amsterdam:20220311T173000
DTSTAMP:20260420T091847
CREATED:20220117T131443Z
LAST-MODIFIED:20220117T131443Z
UID:1212-1647012600-1647019800@www.fablabcoevorden.nl
SUMMARY:Club FabLab (10-15 jaar)
DESCRIPTION:Hou jij van het maken\, ontwerpen van (mooie) dingen? Wil jij graag weten hoe je een eigen game kunt maken? Wil jij lichtjes laten branden in jouw ontworpen huisje? Of…. We kunnen hier niet allemaal opnoemen wat je allemaal voor moois kunt maken als je een beetje handig met techniek bent. Of je nu graag sieraden of accessoires voor in je kamer wilt maken of liever een alarm voor op je kamer.. het kan allemaal met de machines en materialen die we in het Fablab hebben. \nWij leren je tijdens Club Fablab verschillende technieken die je nodig hebt voor het maken van dit soort dingen. Als je vaker komt en hier handig in wordt\, dan gaan we aan de slag met verschillende projecten. Je begint met het leren programmeren\, 3D printen\, lasersnijden en solderen. En dit alles kan in je eigen tempo\, maar wel gezellig met andere jongens en meiden. \nNieuwsgierig? Kom gewoon gratis een keertje kijken of het wat voor je is! Als het je wat lijkt\, dan geef je je per half jaar op. Vul dit formulier in en we maken een afspraak om te komen kijken. \nWanneer: elke 2e en 4e vrijdag van de maand van 15.30-17.30\nKosten: 7\,50 per keer\, inclusief materialen.
URL:https://www.fablabcoevorden.nl/agenda/club-fablab-10-15-jaar-8/
LOCATION:FabLab Coevorden\, Graaf van Heiden Reinesteinlaan\, Coevorden\, 7742
CATEGORIES:Club FabLab
ATTACH;FMTTYPE=image/jpeg:https://www.fablabcoevorden.nl/wp-content/uploads/2021/12/club-FabLab-programmeren-scaled.jpg
END:VEVENT
BEGIN:VEVENT
DTSTART;TZID=Europe/Amsterdam:20220211T153000
DTEND;TZID=Europe/Amsterdam:20220211T173000
DTSTAMP:20260420T091847
CREATED:20220117T131309Z
LAST-MODIFIED:20220117T131309Z
UID:1210-1644593400-1644600600@www.fablabcoevorden.nl
SUMMARY:Club FabLab (10-15 jaar)
DESCRIPTION:Hou jij van het maken\, ontwerpen van (mooie) dingen? Wil jij graag weten hoe je een eigen game kunt maken? Wil jij lichtjes laten branden in jouw ontworpen huisje? Of…. We kunnen hier niet allemaal opnoemen wat je allemaal voor moois kunt maken als je een beetje handig met techniek bent. Of je nu graag sieraden of accessoires voor in je kamer wilt maken of liever een alarm voor op je kamer.. het kan allemaal met de machines en materialen die we in het Fablab hebben. \nWij leren je tijdens Club Fablab verschillende technieken die je nodig hebt voor het maken van dit soort dingen. Als je vaker komt en hier handig in wordt\, dan gaan we aan de slag met verschillende projecten. Je begint met het leren programmeren\, 3D printen\, lasersnijden en solderen. En dit alles kan in je eigen tempo\, maar wel gezellig met andere jongens en meiden. \nNieuwsgierig? Kom gewoon gratis een keertje kijken of het wat voor je is! Als het je wat lijkt\, dan geef je je per half jaar op. Vul dit formulier in en we maken een afspraak om te komen kijken. \nWanneer: elke 2e en 4e vrijdag van de maand van 15.30-17.30\nKosten: 7\,50 per keer\, inclusief materialen.
URL:https://www.fablabcoevorden.nl/agenda/club-fablab-10-15-jaar-7/
LOCATION:FabLab Coevorden\, Graaf van Heiden Reinesteinlaan\, Coevorden\, 7742
CATEGORIES:Club FabLab
ATTACH;FMTTYPE=image/jpeg:https://www.fablabcoevorden.nl/wp-content/uploads/2021/12/solderen-club-fablab-3.jpg
END:VEVENT
BEGIN:VEVENT
DTSTART;TZID=Europe/Amsterdam:20220128T153000
DTEND;TZID=Europe/Amsterdam:20220128T173000
DTSTAMP:20260420T091847
CREATED:20220117T131042Z
LAST-MODIFIED:20220117T131116Z
UID:1207-1643383800-1643391000@www.fablabcoevorden.nl
SUMMARY:Club FabLab (10-15 jaar)
DESCRIPTION:Hou jij van het maken\, ontwerpen van (mooie) dingen? Wil jij graag weten hoe je een eigen game kunt maken? Wil jij lichtjes laten branden in jouw ontworpen huisje? Of…. We kunnen hier niet allemaal opnoemen wat je allemaal voor moois kunt maken als je een beetje handig met techniek bent. Of je nu graag sieraden of accessoires voor in je kamer wilt maken of liever een alarm voor op je kamer.. het kan allemaal met de machines en materialen die we in het Fablab hebben. \nWij leren je tijdens Club Fablab verschillende technieken die je nodig hebt voor het maken van dit soort dingen. Als je vaker komt en hier handig in wordt\, dan gaan we aan de slag met verschillende projecten. Je begint met het leren programmeren\, 3D printen\, lasersnijden en solderen. En dit alles kan in je eigen tempo\, maar wel gezellig met andere jongens en meiden. \nNieuwsgierig? Kom gewoon gratis een keertje kijken of het wat voor je is! Als het je wat lijkt\, dan geef je je per half jaar op. Vul dit formulier in en we maken een afspraak om te komen kijken. \nWanneer: elke 2e en 4e vrijdag van de maand van 15.30-17.30\nKosten: 7\,50 per keer\, inclusief materialen.
URL:https://www.fablabcoevorden.nl/agenda/club-fablab-10-15-jaar-6/
LOCATION:FabLab Coevorden\, Graaf van Heiden Reinesteinlaan\, Coevorden\, 7742
CATEGORIES:Club FabLab
ATTACH;FMTTYPE=image/jpeg:https://www.fablabcoevorden.nl/wp-content/uploads/2021/12/club-FabLab-programmeren-scaled.jpg
END:VEVENT
BEGIN:VEVENT
DTSTART;TZID=Europe/Amsterdam:20211217T150000
DTEND;TZID=Europe/Amsterdam:20211217T170000
DTSTAMP:20260420T091847
CREATED:20211122T083450Z
LAST-MODIFIED:20211130T093952Z
UID:1128-1639753200-1639760400@www.fablabcoevorden.nl
SUMMARY:Club FabLab (10-15 jaar)
DESCRIPTION:Wil jij graag dingen maken? Hou jij van ontwerpen? Ben je nieuwsgierig? Wil je alles weten over programmeren en dat zelf leren? En dat gezellig samen met leeftijdsgenoten die dit ook graag doen? Dan is Club FabLab wat voor jou! \nOnder begeleiding van een professionele coach leer je programmeren. Eerst met Scratch\, maar ga jij als een speer dan leer je misschien wel heel snel Python. Een professionele programmeertaal. De kennis van programmeren gaan jullie gebruiken voor coole andere projecten. \nMisschien willen jullie wel een Robot bouwen die de planten water geeft in het FabLab? Of een muggendetective systeem… Samen kunnen jullie een project verzinnen. En met de Coach kijken jullie wat er voor nodig is om dit te ontwerpen en bouwen (Micro: Bit\, arduino\, 3D printer\, lasernijder…). \nBen jij nieuwsgierig? Kom dan gewoon een keertje kijken of Club Fablab wat voor jou is. De eerste keer is gratis. Ben je enthousiast\, dan kun je je per half jaar opgeven. \nWanneer: Elke 2e vrijdag van de maand van 15.30 – 17.30\nWaar: In het FabLab (ingang Graaf van Heidenreinesteinlaan). \nTarief september t/m december: Van €30 (4 maand) voor €22\,50 (je mag een keer gratis meedoen). Aanmelden met DOE-Mee pas is mogelijk.
URL:https://www.fablabcoevorden.nl/agenda/club-fablab-10-15-jaar-5/
LOCATION:FabLab Coevorden\, Graaf van Heiden Reinesteinlaan\, Coevorden\, 7742
CATEGORIES:Club FabLab
ATTACH;FMTTYPE=image/jpeg:https://www.fablabcoevorden.nl/wp-content/uploads/2021/09/clubfablab_01.jpg
END:VEVENT
BEGIN:VEVENT
DTSTART;TZID=Europe/Amsterdam:20211210T150000
DTEND;TZID=Europe/Amsterdam:20211210T170000
DTSTAMP:20260420T091847
CREATED:20210819T065807Z
LAST-MODIFIED:20211130T094016Z
UID:966-1639148400-1639155600@www.fablabcoevorden.nl
SUMMARY:Club FabLab (10-15 jaar)
DESCRIPTION:Wil jij graag dingen maken? Hou jij van ontwerpen? Ben je nieuwsgierig? Wil je alles weten over programmeren en dat zelf leren? En dat gezellig samen met leeftijdsgenoten die dit ook graag doen? Dan is Club FabLab wat voor jou! \nOnder begeleiding van een professionele coach leer je programmeren. Eerst met Scratch\, maar ga jij als een speer dan leer je misschien wel heel snel Python. Een professionele programmeertaal. De kennis van programmeren gaan jullie gebruiken voor coole andere projecten. \nMisschien willen jullie wel een Robot bouwen die de planten water geeft in het FabLab? Of een muggendetective systeem… Samen kunnen jullie een project verzinnen. En met de Coach kijken jullie wat er voor nodig is om dit te ontwerpen en bouwen (Micro: Bit\, arduino\, 3D printer\, lasernijder…). \nBen jij nieuwsgierig? Kom dan gewoon een keertje kijken of Club Fablab wat voor jou is. De eerste keer is gratis. Ben je enthousiast\, dan kun je je per half jaar opgeven. \nWanneer: Elke 2e vrijdag van de maand van 15.30 – 17.30\nWaar: In het FabLab (ingang Graaf van Heidenreinesteinlaan). \nTarief september t/m december: Van €30 (4 maand) voor €22\,50 (je mag een keer gratis meedoen). Aanmelden met DOE-Mee pas is mogelijk.
URL:https://www.fablabcoevorden.nl/agenda/club-fablab-10-15-jaar-4/
LOCATION:FabLab Coevorden\, Graaf van Heiden Reinesteinlaan\, Coevorden\, 7742
CATEGORIES:Club FabLab
ATTACH;FMTTYPE=image/jpeg:https://www.fablabcoevorden.nl/wp-content/uploads/2021/08/20210714_093308-scaled.jpg
END:VEVENT
BEGIN:VEVENT
DTSTART;TZID=Europe/Amsterdam:20211112T153000
DTEND;TZID=Europe/Amsterdam:20211112T173000
DTSTAMP:20260420T091847
CREATED:20210819T065616Z
LAST-MODIFIED:20210819T073243Z
UID:964-1636731000-1636738200@www.fablabcoevorden.nl
SUMMARY:Club FabLab (10-15 jaar)
DESCRIPTION:Wil jij graag dingen maken? Hou jij van ontwerpen? Ben je nieuwsgierig? Wil je alles weten over programmeren en dat zelf leren? En dat gezellig samen met leeftijdsgenoten die dit ook graag doen? Dan is Club FabLab wat voor jou! \nOnder begeleiding van een professionele coach leer je programmeren. Eerst met Scratch\, maar ga jij als een speer dan leer je misschien wel heel snel Python. Een professionele programmeertaal. De kennis van programmeren gaan jullie gebruiken voor coole andere projecten. \nMisschien willen jullie wel een Robot bouwen die de planten water geeft in het FabLab? Of een muggendetective systeem… Samen kunnen jullie een project verzinnen. En met de Coach kijken jullie wat er voor nodig is om dit te ontwerpen en bouwen (Micro: Bit\, arduino\, 3D printer\, lasernijder…). \nBen jij nieuwsgierig? Kom dan gewoon een keertje kijken of Club Fablab wat voor jou is. De eerste keer is gratis. Ben je enthousiast\, dan kun je je per half jaar opgeven. \nWanneer: Elke 2e vrijdag van de maand van 15.30 – 17.30\nWaar: In het FabLab (ingang Graaf van Heidenreinesteinlaan). \nTarief september t/m december: Van €30 (4 maand) voor €22\,50 (je mag een keer gratis meedoen). Aanmelden met DOE-Mee pas is mogelijk.
URL:https://www.fablabcoevorden.nl/agenda/club-fablab-10-15-jaar-3/
LOCATION:FabLab Coevorden\, Graaf van Heiden Reinesteinlaan\, Coevorden\, 7742
CATEGORIES:Club FabLab
ATTACH;FMTTYPE=image/jpeg:https://www.fablabcoevorden.nl/wp-content/uploads/2021/08/20210714_093308-scaled.jpg
END:VEVENT
BEGIN:VEVENT
DTSTART;TZID=Europe/Amsterdam:20211008T153000
DTEND;TZID=Europe/Amsterdam:20211008T173000
DTSTAMP:20260420T091847
CREATED:20210819T065513Z
LAST-MODIFIED:20210819T073224Z
UID:962-1633707000-1633714200@www.fablabcoevorden.nl
SUMMARY:Club FabLab (10-15 jaar)
DESCRIPTION:Wil jij graag dingen maken? Hou jij van ontwerpen? Ben je nieuwsgierig? Wil je alles weten over programmeren en dat zelf leren? En dat gezellig samen met leeftijdsgenoten die dit ook graag doen? Dan is Club FabLab wat voor jou! \nOnder begeleiding van een professionele coach leer je programmeren. Eerst met Scratch\, maar ga jij als een speer dan leer je misschien wel heel snel Python. Een professionele programmeertaal. De kennis van programmeren gaan jullie gebruiken voor coole andere projecten. \nMisschien willen jullie wel een Robot bouwen die de planten water geeft in het FabLab? Of een muggendetective systeem… Samen kunnen jullie een project verzinnen. En met de Coach kijken jullie wat er voor nodig is om dit te ontwerpen en bouwen (Micro: Bit\, arduino\, 3D printer\, lasernijder…). \nBen jij nieuwsgierig? Kom dan gewoon een keertje kijken of Club Fablab wat voor jou is. De eerste keer is gratis. Ben je enthousiast\, dan kun je je per half jaar opgeven. \nWanneer: Elke 2e vrijdag van de maand van 15.30 – 17.30\nWaar: In het FabLab (ingang Graaf van Heidenreinesteinlaan). \nTarief september t/m december: Van €30 (4 maand) voor €22\,50 (je mag een keer gratis meedoen). Aanmelden met DOE-Mee pas is mogelijk.
URL:https://www.fablabcoevorden.nl/agenda/club-fablab-10-15-jaar-2/
LOCATION:FabLab Coevorden\, Graaf van Heiden Reinesteinlaan\, Coevorden\, 7742
CATEGORIES:Club FabLab
ATTACH;FMTTYPE=image/jpeg:https://www.fablabcoevorden.nl/wp-content/uploads/2021/08/20210714_093308-scaled.jpg
END:VEVENT
BEGIN:VEVENT
DTSTART;TZID=Europe/Amsterdam:20210910T153000
DTEND;TZID=Europe/Amsterdam:20210910T173000
DTSTAMP:20260420T091847
CREATED:20210819T065324Z
LAST-MODIFIED:20210819T073148Z
UID:959-1631287800-1631295000@www.fablabcoevorden.nl
SUMMARY:Club FabLab (10-15 jaar)
DESCRIPTION:Wil jij graag dingen maken? Hou jij van ontwerpen? Ben je nieuwsgierig? Wil je alles weten over programmeren en dat zelf leren? En dat gezellig samen met leeftijdsgenoten die dit ook graag doen? Dan is Club FabLab wat voor jou! \nOnder begeleiding van een professionele coach leer je programmeren. Eerst met Scratch\, maar ga jij als een speer dan leer je misschien wel heel snel Python. Een professionele programmeertaal. De kennis van programmeren gaan jullie gebruiken voor coole andere projecten. \nMisschien willen jullie wel een Robot bouwen die de planten water geeft in het FabLab? Of een muggendetective systeem… Samen kunnen jullie een project verzinnen. En met de Coach kijken jullie wat er voor nodig is om dit te ontwerpen en bouwen (Micro: Bit\, arduino\, 3D printer\, lasernijder…). \nBen jij nieuwsgierig? Kom dan gewoon een keertje kijken of Club Fablab wat voor jou is. De eerste keer is gratis. Ben je enthousiast\, dan kun je je per half jaar opgeven. \nWanneer: Elke 2e vrijdag van de maand van 15.30 – 17.30\nWaar: In het FabLab (ingang Graaf van Heidenreinesteinlaan). \nTarief september t/m december: Van €30 (4 maand) voor €22\,50 (je mag een keer gratis meedoen). Aanmelden met DOE-Mee pas is mogelijk.
URL:https://www.fablabcoevorden.nl/agenda/club-fablab-10-15-jaar/
LOCATION:FabLab Coevorden\, Graaf van Heiden Reinesteinlaan\, Coevorden\, 7742
CATEGORIES:Club FabLab
ATTACH;FMTTYPE=image/jpeg:https://www.fablabcoevorden.nl/wp-content/uploads/2021/08/20210714_093308-scaled.jpg
END:VEVENT
END:VCALENDAR