BEGIN:VCALENDAR
VERSION:2.0
PRODID:-//FabLab Coevorden - ECPv6.15.17.1//NONSGML v1.0//EN
CALSCALE:GREGORIAN
METHOD:PUBLISH
X-ORIGINAL-URL:https://www.fablabcoevorden.nl
X-WR-CALDESC:Evenementen voor FabLab Coevorden
REFRESH-INTERVAL;VALUE=DURATION:PT1H
X-Robots-Tag:noindex
X-PUBLISHED-TTL:PT1H
BEGIN:VTIMEZONE
TZID:Europe/Amsterdam
BEGIN:DAYLIGHT
TZOFFSETFROM:+0100
TZOFFSETTO:+0200
TZNAME:CEST
DTSTART:20240331T010000
END:DAYLIGHT
BEGIN:STANDARD
TZOFFSETFROM:+0200
TZOFFSETTO:+0100
TZNAME:CET
DTSTART:20241027T010000
END:STANDARD
BEGIN:DAYLIGHT
TZOFFSETFROM:+0100
TZOFFSETTO:+0200
TZNAME:CEST
DTSTART:20250330T010000
END:DAYLIGHT
BEGIN:STANDARD
TZOFFSETFROM:+0200
TZOFFSETTO:+0100
TZNAME:CET
DTSTART:20251026T010000
END:STANDARD
BEGIN:DAYLIGHT
TZOFFSETFROM:+0100
TZOFFSETTO:+0200
TZNAME:CEST
DTSTART:20260329T010000
END:DAYLIGHT
BEGIN:STANDARD
TZOFFSETFROM:+0200
TZOFFSETTO:+0100
TZNAME:CET
DTSTART:20261025T010000
END:STANDARD
END:VTIMEZONE
BEGIN:VEVENT
DTSTART;TZID=Europe/Amsterdam:20251106T153000
DTEND;TZID=Europe/Amsterdam:20251106T173000
DTSTAMP:20260420T084633
CREATED:20250707T095052Z
LAST-MODIFIED:20250707T095052Z
UID:3891-1762443000-1762450200@www.fablabcoevorden.nl
SUMMARY:Club FabLab - donderdag (10–15 jaar)
DESCRIPTION:Iedere twee weken donderdag of vrijdag 15.30–17.30 uur – met uitzondering van vakanties en feestdagen.  \nDuik elke clubmiddag in 3D-printen\, lasersnijden\, solderen\, programmeren met Scratch en micro:bit\, en ontwerp je eigen pixelart. Eerst korte training\, daarna ruimte om jouw creatieve of technische ideeën uit te voeren! \nNieuwsgierig? \n🔹 Eerste keer proberen? Dat mag gratis! \n🔹 Kosten: €7\,50 per middag – je betaald per blok \n \nAanmelden en meer info:\n➡️ www.fablabcoevorden.nl/club-fablab/
URL:https://www.fablabcoevorden.nl/agenda/club-fablab-donderdag-10-15-jaar-18/
LOCATION:FabLab Coevorden\, Graaf van Heiden Reinesteinlaan\, Coevorden\, 7742
CATEGORIES:Club FabLab
ATTACH;FMTTYPE=image/png:https://www.fablabcoevorden.nl/wp-content/uploads/2023/07/pictogram_clubfablab_donderdag_vooragenda-1-e1689079833982.png
END:VEVENT
BEGIN:VEVENT
DTSTART;TZID=Europe/Amsterdam:20251114T153000
DTEND;TZID=Europe/Amsterdam:20251114T173000
DTSTAMP:20260420T084633
CREATED:20250707T100521Z
LAST-MODIFIED:20250707T100521Z
UID:3911-1763134200-1763141400@www.fablabcoevorden.nl
SUMMARY:Club FabLab - vrijdag (10–15 jaar)
DESCRIPTION:Iedere twee weken donderdag of vrijdag 15.30–17.30 uur – met uitzondering van vakanties en feestdagen.  \nDuik elke clubmiddag in 3D-printen\, lasersnijden\, solderen\, programmeren met Scratch en micro:bit\, en ontwerp je eigen pixelart. Eerst korte training\, daarna ruimte om jouw creatieve of technische ideeën uit te voeren! \nNieuwsgierig? \n🔹 Eerste keer proberen? Dat mag gratis! \n🔹 Kosten: €7\,50 per middag – je betaald per blok \n \nAanmelden en meer info:\n➡️ www.fablabcoevorden.nl/club-fablab/
URL:https://www.fablabcoevorden.nl/agenda/club-fablab-vrijdag-10-15-jaar-16/
LOCATION:FabLab Coevorden\, Graaf van Heiden Reinesteinlaan\, Coevorden\, 7742
CATEGORIES:Club FabLab
ATTACH;FMTTYPE=image/png:https://www.fablabcoevorden.nl/wp-content/uploads/2023/07/pictogram_clubfablab_vrijdag_vooragenda-e1751882304425.png
END:VEVENT
BEGIN:VEVENT
DTSTART;TZID=Europe/Amsterdam:20251120T153000
DTEND;TZID=Europe/Amsterdam:20251120T173000
DTSTAMP:20260420T084633
CREATED:20250707T095142Z
LAST-MODIFIED:20250707T095142Z
UID:3893-1763652600-1763659800@www.fablabcoevorden.nl
SUMMARY:Club FabLab - donderdag (10–15 jaar)
DESCRIPTION:Iedere twee weken donderdag of vrijdag 15.30–17.30 uur – met uitzondering van vakanties en feestdagen.  \nDuik elke clubmiddag in 3D-printen\, lasersnijden\, solderen\, programmeren met Scratch en micro:bit\, en ontwerp je eigen pixelart. Eerst korte training\, daarna ruimte om jouw creatieve of technische ideeën uit te voeren! \nNieuwsgierig? \n🔹 Eerste keer proberen? Dat mag gratis! \n🔹 Kosten: €7\,50 per middag – je betaald per blok \n \nAanmelden en meer info:\n➡️ www.fablabcoevorden.nl/club-fablab/
URL:https://www.fablabcoevorden.nl/agenda/club-fablab-donderdag-10-15-jaar-19/
LOCATION:FabLab Coevorden\, Graaf van Heiden Reinesteinlaan\, Coevorden\, 7742
CATEGORIES:Club FabLab
ATTACH;FMTTYPE=image/png:https://www.fablabcoevorden.nl/wp-content/uploads/2023/07/pictogram_clubfablab_donderdag_vooragenda-1-e1689079833982.png
END:VEVENT
BEGIN:VEVENT
DTSTART;TZID=Europe/Amsterdam:20251128T153000
DTEND;TZID=Europe/Amsterdam:20251128T173000
DTSTAMP:20260420T084633
CREATED:20250707T100659Z
LAST-MODIFIED:20250707T100659Z
UID:3913-1764343800-1764351000@www.fablabcoevorden.nl
SUMMARY:Club FabLab - vrijdag (10–15 jaar)
DESCRIPTION:Iedere twee weken donderdag of vrijdag 15.30–17.30 uur – met uitzondering van vakanties en feestdagen.  \nDuik elke clubmiddag in 3D-printen\, lasersnijden\, solderen\, programmeren met Scratch en micro:bit\, en ontwerp je eigen pixelart. Eerst korte training\, daarna ruimte om jouw creatieve of technische ideeën uit te voeren! \nNieuwsgierig? \n🔹 Eerste keer proberen? Dat mag gratis! \n🔹 Kosten: €7\,50 per middag – je betaald per blok \n \nAanmelden en meer info:\n➡️ www.fablabcoevorden.nl/club-fablab/
URL:https://www.fablabcoevorden.nl/agenda/club-fablab-vrijdag-10-15-jaar-17/
LOCATION:FabLab Coevorden\, Graaf van Heiden Reinesteinlaan\, Coevorden\, 7742
CATEGORIES:Club FabLab
ATTACH;FMTTYPE=image/png:https://www.fablabcoevorden.nl/wp-content/uploads/2023/07/pictogram_clubfablab_vrijdag_vooragenda-e1751882304425.png
END:VEVENT
END:VCALENDAR