BEGIN:VCALENDAR
VERSION:2.0
PRODID:-//FabLab Coevorden - ECPv6.15.20//NONSGML v1.0//EN
CALSCALE:GREGORIAN
METHOD:PUBLISH
X-ORIGINAL-URL:https://www.fablabcoevorden.nl
X-WR-CALDESC:Evenementen voor FabLab Coevorden
REFRESH-INTERVAL;VALUE=DURATION:PT1H
X-Robots-Tag:noindex
X-PUBLISHED-TTL:PT1H
BEGIN:VTIMEZONE
TZID:Europe/Amsterdam
BEGIN:DAYLIGHT
TZOFFSETFROM:+0100
TZOFFSETTO:+0200
TZNAME:CEST
DTSTART:20220327T010000
END:DAYLIGHT
BEGIN:STANDARD
TZOFFSETFROM:+0200
TZOFFSETTO:+0100
TZNAME:CET
DTSTART:20221030T010000
END:STANDARD
BEGIN:DAYLIGHT
TZOFFSETFROM:+0100
TZOFFSETTO:+0200
TZNAME:CEST
DTSTART:20230326T010000
END:DAYLIGHT
BEGIN:STANDARD
TZOFFSETFROM:+0200
TZOFFSETTO:+0100
TZNAME:CET
DTSTART:20231029T010000
END:STANDARD
BEGIN:DAYLIGHT
TZOFFSETFROM:+0100
TZOFFSETTO:+0200
TZNAME:CEST
DTSTART:20240331T010000
END:DAYLIGHT
BEGIN:STANDARD
TZOFFSETFROM:+0200
TZOFFSETTO:+0100
TZNAME:CET
DTSTART:20241027T010000
END:STANDARD
END:VTIMEZONE
BEGIN:VEVENT
DTSTART;TZID=Europe/Amsterdam:20230310T153000
DTEND;TZID=Europe/Amsterdam:20230310T173000
DTSTAMP:20260426T060213
CREATED:20221208T111430Z
LAST-MODIFIED:20221208T111430Z
UID:1786-1678462200-1678469400@www.fablabcoevorden.nl
SUMMARY:Club FabLab Vrijdag (10-15 jaar)
DESCRIPTION:Samen met anderen lekker aan de slag en nieuwe dingen ontdekken. Je leert programmeren\, 3D printen en lasersnijden. Maar bovenal willen we dat je lekker creatief en technisch aan de slag gaat. Je werkt in je eigen tempo aan de dingen die jij leuk vindt. Maar iedereen probeert wel alle nieuwe dingen uit! \nWil je meedoen? Vraag een gratis proefles aan via welkom@fablabcoevorden.nl . \nWanneer: vrijdagmiddag (even week) van 15.30-17.30\nLeeftijd: 10 – 15 jaar\, maar we maken uitzonderingen daar waar het kan.\nPrijs: 1e les gratis. Daarna €7\,50 per middag (je betaald per half jaar). Tijdens vakanties/feestdagen is er geen club\, je betaald daar ook niet voor.
URL:https://www.fablabcoevorden.nl/agenda/club-fablab-vrijdag-10-15-jaar-4/
LOCATION:FabLab Coevorden\, Graaf van Heiden Reinesteinlaan\, Coevorden\, 7742
CATEGORIES:Club FabLab
END:VEVENT
END:VCALENDAR