BEGIN:VCALENDAR
VERSION:2.0
PRODID:-//FabLab Coevorden - ECPv6.15.20//NONSGML v1.0//EN
CALSCALE:GREGORIAN
METHOD:PUBLISH
X-ORIGINAL-URL:https://www.fablabcoevorden.nl
X-WR-CALDESC:Evenementen voor FabLab Coevorden
REFRESH-INTERVAL;VALUE=DURATION:PT1H
X-Robots-Tag:noindex
X-PUBLISHED-TTL:PT1H
BEGIN:VTIMEZONE
TZID:Europe/Amsterdam
BEGIN:DAYLIGHT
TZOFFSETFROM:+0100
TZOFFSETTO:+0200
TZNAME:CEST
DTSTART:20230326T010000
END:DAYLIGHT
BEGIN:STANDARD
TZOFFSETFROM:+0200
TZOFFSETTO:+0100
TZNAME:CET
DTSTART:20231029T010000
END:STANDARD
BEGIN:DAYLIGHT
TZOFFSETFROM:+0100
TZOFFSETTO:+0200
TZNAME:CEST
DTSTART:20240331T010000
END:DAYLIGHT
BEGIN:STANDARD
TZOFFSETFROM:+0200
TZOFFSETTO:+0100
TZNAME:CET
DTSTART:20241027T010000
END:STANDARD
BEGIN:DAYLIGHT
TZOFFSETFROM:+0100
TZOFFSETTO:+0200
TZNAME:CEST
DTSTART:20250330T010000
END:DAYLIGHT
BEGIN:STANDARD
TZOFFSETFROM:+0200
TZOFFSETTO:+0100
TZNAME:CET
DTSTART:20251026T010000
END:STANDARD
END:VTIMEZONE
BEGIN:VEVENT
DTSTART;TZID=Europe/Amsterdam:20241015T153000
DTEND;TZID=Europe/Amsterdam:20241015T163000
DTSTAMP:20260423T232553
CREATED:20240716T125348Z
LAST-MODIFIED:20240716T130200Z
UID:3500-1729006200-1729009800@www.fablabcoevorden.nl
SUMMARY:Achter de voordeur: STC
DESCRIPTION:Hoe maken zij het? Jij krijgt de kans om te komen kijken. \nDeze “achter de voordeur” is in combinatie met een Maak-Middag lassen in het FabLab verzorgt door STC. \nOp woensdagmiddag 9 oktober kunnen de kinderen (8-12 jaar) in het FabLab lassen.\nDinsdag 15 oktober kunnen de kinderen onder samen met volwassene (verplicht i.v.m. begeleiding) een kijkje nemen bij STC zelf. \nGeef je dus snel op. https://www.fablabcoevorden.nl/aanmelden/  \n(Meld alleen de kinderen aan! )
URL:https://www.fablabcoevorden.nl/agenda/achter-de-voordeur-stc/
CATEGORIES:Achter de voordeur bij
ATTACH;FMTTYPE=image/webp:https://www.fablabcoevorden.nl/wp-content/uploads/2024/07/logo-achter-de-voordeur-STC.webp
END:VEVENT
END:VCALENDAR