BEGIN:VCALENDAR
VERSION:2.0
PRODID:-//FabLab Coevorden - ECPv6.15.20//NONSGML v1.0//EN
CALSCALE:GREGORIAN
METHOD:PUBLISH
X-ORIGINAL-URL:https://www.fablabcoevorden.nl
X-WR-CALDESC:Evenementen voor FabLab Coevorden
REFRESH-INTERVAL;VALUE=DURATION:PT1H
X-Robots-Tag:noindex
X-PUBLISHED-TTL:PT1H
BEGIN:VTIMEZONE
TZID:Europe/Amsterdam
BEGIN:DAYLIGHT
TZOFFSETFROM:+0100
TZOFFSETTO:+0200
TZNAME:CEST
DTSTART:20210328T010000
END:DAYLIGHT
BEGIN:STANDARD
TZOFFSETFROM:+0200
TZOFFSETTO:+0100
TZNAME:CET
DTSTART:20211031T010000
END:STANDARD
BEGIN:DAYLIGHT
TZOFFSETFROM:+0100
TZOFFSETTO:+0200
TZNAME:CEST
DTSTART:20220327T010000
END:DAYLIGHT
BEGIN:STANDARD
TZOFFSETFROM:+0200
TZOFFSETTO:+0100
TZNAME:CET
DTSTART:20221030T010000
END:STANDARD
BEGIN:DAYLIGHT
TZOFFSETFROM:+0100
TZOFFSETTO:+0200
TZNAME:CEST
DTSTART:20230326T010000
END:DAYLIGHT
BEGIN:STANDARD
TZOFFSETFROM:+0200
TZOFFSETTO:+0100
TZNAME:CET
DTSTART:20231029T010000
END:STANDARD
END:VTIMEZONE
BEGIN:VEVENT
DTSTART;TZID=Europe/Amsterdam:20221012T150000
DTEND;TZID=Europe/Amsterdam:20221012T163000
DTSTAMP:20260425T160722
CREATED:20220905T081939Z
LAST-MODIFIED:20220905T081939Z
UID:1593-1665586800-1665592200@www.fablabcoevorden.nl
SUMMARY:Maak-Middag - Sieraden maken met de 3D printer (8-12 jaar)
DESCRIPTION:Ontwerp in Tinkercad je eigen sieraden. Je kunt kiezen voor een hanger voor een ketting of een bedel voor een armband. \nJe begint met het maken van een schets. Wat zou je allemaal kunnen maken? Jouw mooiste ontwerp kies je uit om te ontwerpen in Tinkercad. \nHet duurt even voordat een 3D print klaar is\, daarom printen we jouw ontwerp op een later moment uit. Je krijgt een berichtje als jouw ontwerp klaar is. \nInschrijven voor deze activiteit kan hier: https://www.fablabcoevorden.nl/aanmelden/
URL:https://www.fablabcoevorden.nl/agenda/maak-middag-sieraden-maken-met-de-3d-printer-8-12-jaar/
LOCATION:FabLab Coevorden\, Graaf van Heiden Reinesteinlaan\, Coevorden\, 7742
CATEGORIES:8 - 12 jaar,MAAK-middag
ATTACH;FMTTYPE=image/jpeg:https://www.fablabcoevorden.nl/wp-content/uploads/2022/06/20220406_091703-scaled.jpg
END:VEVENT
BEGIN:VEVENT
DTSTART;TZID=Europe/Amsterdam:20221026T150000
DTEND;TZID=Europe/Amsterdam:20221026T163000
DTSTAMP:20260425T160722
CREATED:20220905T082256Z
LAST-MODIFIED:20220906T081620Z
UID:1595-1666796400-1666801800@www.fablabcoevorden.nl
SUMMARY:Maak-Middag - Lampion maken (8-12 jaar)
DESCRIPTION:Ontwerp je eigen lampion in Tinkercad. \nJe maakt eerst een schets hoe jouw lampion eruit gaat zien. Daarna ga je hem ontwerpen in Tinkercad. Heb je nog geen ervaring met Tinkercad? De coaches en andere deelnemers helpen jou op weg. \nDe lampion snijden we uit met behulp van de lasersnijder\, daarna kun je hem bevestigen aan het lampje.
URL:https://www.fablabcoevorden.nl/agenda/maak-middag-lampion-maken-8-12-jaar/
LOCATION:FabLab Coevorden\, Graaf van Heiden Reinesteinlaan\, Coevorden\, 7742
CATEGORIES:8 - 12 jaar,MAAK-middag
ATTACH;FMTTYPE=image/jpeg:https://www.fablabcoevorden.nl/wp-content/uploads/2022/09/20220905_113047-scaled.jpg
END:VEVENT
BEGIN:VEVENT
DTSTART;TZID=Europe/Amsterdam:20221109T150000
DTEND;TZID=Europe/Amsterdam:20221109T163000
DTSTAMP:20260425T160722
CREATED:20220915T145833Z
LAST-MODIFIED:20220915T150121Z
UID:1597-1668006000-1668011400@www.fablabcoevorden.nl
SUMMARY:Maak-Middag - 3D mini maken (8-12 jaar)
DESCRIPTION:Ontwerp je eigen 3D mini! \nEen 3D mini is een klein poppetje\, figuurtje gemaakt met de basisfiguren uit Tinkercad. Kun jij jouw lievelingsfiguur na maken? Of wil jij je eigen speelfiguren of een avatar maken? Daarvoor is de 3D mini heel geschikt. \nIk ben benieuwd hoe groot onze 3D mini-serie in het Fablab gaat worden. \nAanmelden voor deze activiteit kan hier: https://www.fablabcoevorden.nl/aanmelden/ \n 
URL:https://www.fablabcoevorden.nl/agenda/maak-middag-3d-mini-maken/
LOCATION:FabLab Coevorden\, Graaf van Heiden Reinesteinlaan\, Coevorden\, 7742
CATEGORIES:8 - 12 jaar
ATTACH;FMTTYPE=image/jpeg:https://www.fablabcoevorden.nl/wp-content/uploads/2021/05/3Dminisfablabpop.jpg
END:VEVENT
BEGIN:VEVENT
DTSTART;TZID=Europe/Amsterdam:20221123T150000
DTEND;TZID=Europe/Amsterdam:20221123T163000
DTSTAMP:20260425T160722
CREATED:20220915T150854Z
LAST-MODIFIED:20220915T150854Z
UID:1628-1669215600-1669221000@www.fablabcoevorden.nl
SUMMARY:Maak-Middag - Sfeerlicht maken (8-12 jaar)
DESCRIPTION:Met de lasersnijder kun je prachtige ontwerpen maken voor een sfeerlampje. \nWat ga jij maken? Een huisje\, kerstverlichting? Zolang het nep-waxinelichtje er maar inpast! \nAanmelden voor deze activiteit kan hier: https://www.fablabcoevorden.nl/aanmelden/ \n 
URL:https://www.fablabcoevorden.nl/agenda/maak-middag-sfeerlicht-maken-8-12-jaar/
LOCATION:FabLab Coevorden\, Graaf van Heiden Reinesteinlaan\, Coevorden\, 7742
CATEGORIES:8 - 12 jaar,MAAK-middag
ATTACH;FMTTYPE=image/jpeg:https://www.fablabcoevorden.nl/wp-content/uploads/2022/09/20220119_163056-scaled.jpg
END:VEVENT
BEGIN:VEVENT
DTSTART;TZID=Europe/Amsterdam:20221207T150000
DTEND;TZID=Europe/Amsterdam:20221207T163000
DTSTAMP:20260425T160722
CREATED:20220915T151549Z
LAST-MODIFIED:20220915T151549Z
UID:1631-1670425200-1670430600@www.fablabcoevorden.nl
SUMMARY:Maak Middag - Kerstboom versiering 3D printen (8-12 jaar)
DESCRIPTION:Ontwerp in Tinkercad je persoonlijke kerstboomversiering! Wat ga jij maken? \nWe ontwerpen bij deze Maak-Middag voor de 3D printer\, je kunt kiezen uit veel verschillende kleurtjes om jouw ontwerp te printen. \nAanmelden voor deze activiteit kan hier: https://www.fablabcoevorden.nl/aanmelden/ 
URL:https://www.fablabcoevorden.nl/agenda/maak-middag-kerstboom-versiering-3d-printen-8-12-jaar/
LOCATION:FabLab Coevorden\, Graaf van Heiden Reinesteinlaan\, Coevorden\, 7742
CATEGORIES:8 - 12 jaar,MAAK-middag
ATTACH;FMTTYPE=image/jpeg:https://www.fablabcoevorden.nl/wp-content/uploads/2022/09/20211209_153109-scaled.jpg
END:VEVENT
BEGIN:VEVENT
DTSTART;TZID=Europe/Amsterdam:20221221T150000
DTEND;TZID=Europe/Amsterdam:20221221T163000
DTSTAMP:20260425T160722
CREATED:20220915T152328Z
LAST-MODIFIED:20220915T152328Z
UID:1634-1671634800-1671640200@www.fablabcoevorden.nl
SUMMARY:Maak-Middag - Maak je eigen mini kerstboom van hout (8-12 jaar)
DESCRIPTION:Wil jij een eigen kerstboom op je kamer?\nAls je al veel Tinkercad ervaring hebt\, kun je een eigen 2D kerstboom tekenen die je vervolgens 3D in elkaar kunt zetten. Je eigen puzzel! \nBen je nog niet zo handig met Tinkercad en maten\, dat maakt niet uit. Je krijgt een basisvorm kerstboom die je kunt versieren met gaten en tekeningen zoals jij dat wilt. \nIk ben benieuwd hoeveel verschillende boompjes we krijgen! \nAanmelden voor deze activiteit kan hier: https://www.fablabcoevorden.nl/aanmelden/ 
URL:https://www.fablabcoevorden.nl/agenda/maak-middag-maak-je-eigen-mini-kerstboom-van-hout-8-12-jaar/
LOCATION:FabLab Coevorden\, Graaf van Heiden Reinesteinlaan\, Coevorden\, 7742
CATEGORIES:8 - 12 jaar,MAAK-middag
ATTACH;FMTTYPE=image/jpeg:https://www.fablabcoevorden.nl/wp-content/uploads/2021/11/kerstboompje-hout-laser-rotated.jpg
END:VEVENT
END:VCALENDAR