BEGIN:VCALENDAR
VERSION:2.0
PRODID:-//FabLab Coevorden - ECPv6.15.20//NONSGML v1.0//EN
CALSCALE:GREGORIAN
METHOD:PUBLISH
X-WR-CALNAME:FabLab Coevorden
X-ORIGINAL-URL:https://www.fablabcoevorden.nl
X-WR-CALDESC:Evenementen voor FabLab Coevorden
REFRESH-INTERVAL;VALUE=DURATION:PT1H
X-Robots-Tag:noindex
X-PUBLISHED-TTL:PT1H
BEGIN:VTIMEZONE
TZID:Europe/Amsterdam
BEGIN:DAYLIGHT
TZOFFSETFROM:+0100
TZOFFSETTO:+0200
TZNAME:CEST
DTSTART:20210328T010000
END:DAYLIGHT
BEGIN:STANDARD
TZOFFSETFROM:+0200
TZOFFSETTO:+0100
TZNAME:CET
DTSTART:20211031T010000
END:STANDARD
BEGIN:DAYLIGHT
TZOFFSETFROM:+0100
TZOFFSETTO:+0200
TZNAME:CEST
DTSTART:20220327T010000
END:DAYLIGHT
BEGIN:STANDARD
TZOFFSETFROM:+0200
TZOFFSETTO:+0100
TZNAME:CET
DTSTART:20221030T010000
END:STANDARD
BEGIN:DAYLIGHT
TZOFFSETFROM:+0100
TZOFFSETTO:+0200
TZNAME:CEST
DTSTART:20230326T010000
END:DAYLIGHT
BEGIN:STANDARD
TZOFFSETFROM:+0200
TZOFFSETTO:+0100
TZNAME:CET
DTSTART:20231029T010000
END:STANDARD
END:VTIMEZONE
BEGIN:VEVENT
DTSTART;TZID=Europe/Amsterdam:20220601T150000
DTEND;TZID=Europe/Amsterdam:20220601T163000
DTSTAMP:20260425T212027
CREATED:20220311T112151Z
LAST-MODIFIED:20220404T072648Z
UID:1348-1654095600-1654101000@www.fablabcoevorden.nl
SUMMARY:MAAK-middag- Vaderdagcadeautje maken (8-12 jaar)
DESCRIPTION:Maak een persoonlijk Vaderdagcadeautje in het FabLab.
URL:https://www.fablabcoevorden.nl/agenda/maak-middag-3d-printen-8-12-jaar-8/
LOCATION:FabLab Coevorden\, Graaf van Heiden Reinesteinlaan\, Coevorden\, 7742
CATEGORIES:8 - 12 jaar,MAAK-middag
ATTACH;FMTTYPE=image/jpeg:https://www.fablabcoevorden.nl/wp-content/uploads/2022/02/PSX_20211028_202116-scaled.jpg
END:VEVENT
BEGIN:VEVENT
DTSTART;TZID=Europe/Amsterdam:20220615T150000
DTEND;TZID=Europe/Amsterdam:20220615T163000
DTSTAMP:20260425T212027
CREATED:20220311T112326Z
LAST-MODIFIED:20220404T072601Z
UID:1350-1655305200-1655310600@www.fablabcoevorden.nl
SUMMARY:MAAK-middag lasersnijden (8-12 jaar)
DESCRIPTION:Kies zelf wat jij deze middag wilt gaan maken. Hoe vaker je komt\, hoe handiger je wordt met tekenen in Tinkercad. Je kunt daardoor steeds ingewikkelder ontwerpen maken. Ben je eraan toe\, dan leren we je hoe je de lasersnijder moet bedienen (ook afhankelijk van de groepsgrote). \nWat kun je bijvoorbeeld maken: Stickers\, kaarten\, sieraden\, 2D mini’s\, vliegtuigjes\, bouwpakketten of een eigen idee!
URL:https://www.fablabcoevorden.nl/agenda/maak-middag-lasersnijden-8-12-jaar-10/
LOCATION:FabLab Coevorden\, Graaf van Heiden Reinesteinlaan\, Coevorden\, 7742
CATEGORIES:8 - 12 jaar,MAAK-middag
ATTACH;FMTTYPE=image/jpeg:https://www.fablabcoevorden.nl/wp-content/uploads/2022/03/Maak-middag-laseren-scaled.jpg
END:VEVENT
END:VCALENDAR